BEGIN:VCALENDAR
VERSION:2.0
PRODID:-//Assembly of European Regions - ECPv6.1.3//NONSGML v1.0//EN
CALSCALE:GREGORIAN
METHOD:PUBLISH
X-ORIGINAL-URL:https://aer.eu
X-WR-CALDESC:Events for Assembly of European Regions
REFRESH-INTERVAL;VALUE=DURATION:PT1H
X-Robots-Tag:noindex
X-PUBLISHED-TTL:PT1H
BEGIN:VTIMEZONE
TZID:Europe/Brussels
BEGIN:DAYLIGHT
TZOFFSETFROM:+0100
TZOFFSETTO:+0200
TZNAME:CEST
DTSTART:20230326T010000
END:DAYLIGHT
BEGIN:STANDARD
TZOFFSETFROM:+0200
TZOFFSETTO:+0100
TZNAME:CET
DTSTART:20231029T010000
END:STANDARD
END:VTIMEZONE
BEGIN:VEVENT
DTSTART;TZID=Europe/Brussels:20230727T080000
DTEND;TZID=Europe/Brussels:20230810T170000
DTSTAMP:20260425T175409
CREATED:20230726T145629Z
LAST-MODIFIED:20230726T145629Z
UID:45568-1690444800-1691686800@aer.eu
SUMMARY:YOUTHopia Workshop: Unboxing EU Cohesion Policy
DESCRIPTION:27 July – 3 August – 10 August (3-5 pm CET)\nHear hear young people! If you are either from a youth organisation\, a young regional representative from our Youth Regional Network (YRN)\, or just a young enthusiast curious about EU and regional policy and politics\, then mark your calendar! \nAER’s YOUTHopia project is on a mission to uncover all you need to know about the biggest EU investment plan that covers one-third of the total EU Budget: the Cohesion Policy. They are all sealed in a mystery box prepared to be unboxed! \nUnlike the infamous Pandora Box\, once you discover its content you will get all the knowledge you need to empower yourselves\, transform your region and city. \nDon’t let the Cohesion Policy box gather dust\,  join our 3  online workshops\, and discover all the available opportunities for you(th)! \nIf you attend the three sessions\, you will receive an official certificate of attendance and your newly acquired knowledge\, sealed from the Assembly of European Regions. \nThe workshop will dive into key topics that together will equip you with a great overview of Cohesion Policy instruments\, and how we can talk Cohesion-friendly to our peers\, BUT NO WORRIES! YOU CAN REGISTER FOR EACH SESSION INDEPENDENTLY!\n\nSession #1: The legislative process behind the EU main investment tool & avenues of participation in policy-making for youth. 27th July\, 15:00 – 17:00 (CET\, Brussels time)\nSession #2: How Does It Work in Practice? An Overview of Funding & Opportunities for Youth. 3rd August\, 15:00 – 17:00 (CET\, Brussels time)\nSession #3: Story-telling or the Art of Making European Cohesion Cool. 10th August\, 15:00 – 17:00\, Brussels time\n\n\nREGISTER HERE\n\n\nCan’t wait until the workshop? Check out our HotlineCohesion articles and answer our quiz in preparation! \nFeel free to reach out to us if you have any questions or need further information. Contact e.hayes@aer.eu or a.comacchio@aer.eu. \nDon’t miss out on this fantastic opportunity! \n\nThe Youthopia Project is co-funded by the Directorate General for Regional and Urban policy (DG REGIO) of the European Commission.
URL:https://aer.eu/events/youthopia-workshop-unboxing-eu-cohesion-policy/
END:VEVENT
END:VCALENDAR