BEGIN:VCALENDAR
VERSION:2.0
PRODID:-//Assembly of European Regions - ECPv6.1.3//NONSGML v1.0//EN
CALSCALE:GREGORIAN
METHOD:PUBLISH
X-WR-CALNAME:Assembly of European Regions
X-ORIGINAL-URL:https://aer.eu
X-WR-CALDESC:Events for Assembly of European Regions
REFRESH-INTERVAL;VALUE=DURATION:PT1H
X-Robots-Tag:noindex
X-PUBLISHED-TTL:PT1H
BEGIN:VTIMEZONE
TZID:Europe/Paris
BEGIN:DAYLIGHT
TZOFFSETFROM:+0100
TZOFFSETTO:+0200
TZNAME:CEST
DTSTART:20180325T010000
END:DAYLIGHT
BEGIN:STANDARD
TZOFFSETFROM:+0200
TZOFFSETTO:+0100
TZNAME:CET
DTSTART:20181028T010000
END:STANDARD
END:VTIMEZONE
BEGIN:VEVENT
DTSTART;TZID=Europe/Paris:20180605T133000
DTEND;TZID=Europe/Paris:20180605T173000
DTSTAMP:20260425T182423
CREATED:20180507T112102Z
LAST-MODIFIED:20180507T112102Z
UID:22656-1528205400-1528219800@aer.eu
SUMMARY:Mobility Scouts - European Final Event
DESCRIPTION:Aim of the event\nAccessible and available services and environments are obviously major prerequisites for participation. Older people as experts of their own life know best how services and public spaces should be designed and organised to meet their needs. \nThe Mobility Scouts Erasmus+ project (www.mobility-scouts.eu) supports older men and women to contribute to the creation of age-friendly environments and services. \nThe European final event will be the opportunity to: \n\nget to know good examples of age-friendly communities in Europe\ndiscuss whether professionals are prepared to co-create age-friendly Communities\nexchange experiences about the training of Mobility Scouts in five European countries (Austria\, Germany\, Lithuania\, Italy and the Netherlands)\nnetwork with experts in the field\n\nFind out more and register here.
URL:https://aer.eu/events/mobility-scouts-european-final-event/
LOCATION:Committee of the Regions\, Rue Belliard\, Brussels\, Belgium
CATEGORIES:Partner Events
ATTACH;FMTTYPE=image/jpeg:https://aer.eu/wp-content/uploads/2018/05/AdobeStock_124988530.jpeg
END:VEVENT
BEGIN:VEVENT
DTSTART;VALUE=DATE:20180606
DTEND;VALUE=DATE:20180607
DTSTAMP:20260425T182423
CREATED:20180405T115816Z
LAST-MODIFIED:20180607T055349Z
UID:22358-1528243200-1528329599@aer.eu
SUMMARY:EU Funding Seminar for our Croatian Regions
DESCRIPTION:AER organised an event on EU Funding hosted by our member region Varazdin in June 2018. The seminar focused on EU funded projects and how AER can help Croatian regions to take an active part of  them.\n\nSee some photo highlights here. \nProgramme\n \n\nContact\n\n\n\nElin Berglie\nTel: +32 2 400 10 22\nE-mail: e.berglie(at)aer.eu\nSkype ID: eberglie\nLanguages: se\, en\, fr\, pt \nArticles by Elin \n\n\n  \n\nSingle point of contact for regions\nInduction for new members\nMembers’ happiness\n\n\n\n\n\n\n\n\nPhoto credit: Sobrecroacia.com on Visualhunt.com /  CC BY
URL:https://aer.eu/events/eu-funding-seminar-for-our-croatian-regions/
LOCATION:Varaždin County Palace\, Franjevački trg 7\, Varaždin\, Varaždin\, 42000\, Croatia (Local Name: Hrvatska)
CATEGORIES:AER Events
ATTACH;FMTTYPE=image/jpeg:https://aer.eu/wp-content/uploads/2018/04/4685319478_12ff5ed40d_b.jpg
END:VEVENT
BEGIN:VEVENT
DTSTART;TZID=Europe/Paris:20180621T100000
DTEND;TZID=Europe/Paris:20180621T140000
DTSTAMP:20260425T182423
CREATED:20180411T120641Z
LAST-MODIFIED:20180611T090141Z
UID:22445-1529575200-1529589600@aer.eu
SUMMARY:Funding Seminar for our Albanian regions
DESCRIPTION:AER will be organising an event on Funding opportunities hosted by our member region Korça in Albania in June 2018. The seminar will be focusing on EU funded projects and how AER can help Albanian regions to take an active part of  them.  \nProgramme\n \nRegister here\n  \nContact\n\n\n\nElin Berglie\nTel: +32 2 400 10 22\nE-mail: e.berglie(at)aer.eu\nSkype ID: eberglie\nLanguages: se\, en\, fr\, pt \nArticles by Elin \n\n\n  \n\nSingle point of contact for regions\nInduction for new members\nMembers’ happiness\n\n\n\n\n\n\n\nPhoto credit: Timon91 on Visual hunt /  CC BY-NC-SA
URL:https://aer.eu/events/funding-seminar-for-our-albanian-regions/
CATEGORIES:AER Events
ATTACH;FMTTYPE=image/jpeg:https://aer.eu/wp-content/uploads/2018/04/33799152291_06960cddfa_b.jpg
END:VEVENT
END:VCALENDAR