BEGIN:VCALENDAR
VERSION:2.0
PRODID:-//Assembly of European Regions - ECPv6.1.3//NONSGML v1.0//EN
CALSCALE:GREGORIAN
METHOD:PUBLISH
X-ORIGINAL-URL:https://aer.eu
X-WR-CALDESC:Events for Assembly of European Regions
REFRESH-INTERVAL;VALUE=DURATION:PT1H
X-Robots-Tag:noindex
X-PUBLISHED-TTL:PT1H
BEGIN:VTIMEZONE
TZID:Europe/Paris
BEGIN:DAYLIGHT
TZOFFSETFROM:+0100
TZOFFSETTO:+0200
TZNAME:CEST
DTSTART:20180325T010000
END:DAYLIGHT
BEGIN:STANDARD
TZOFFSETFROM:+0200
TZOFFSETTO:+0100
TZNAME:CET
DTSTART:20181028T010000
END:STANDARD
END:VTIMEZONE
BEGIN:VEVENT
DTSTART;TZID=Europe/Paris:20180228T080000
DTEND;TZID=Europe/Paris:20180302T170000
DTSTAMP:20260426T003052
CREATED:20170829T055334Z
LAST-MODIFIED:20180704T072710Z
UID:19313-1519804800-1520010000@aer.eu
SUMMARY:World Sustainable Energy Days 2018
DESCRIPTION:Once a year AER member region Upper Austria becomes the world capital of sustainable energy. AER is a longtime partner to this event which focuses on clean energy and energy efficiency. \nClean energy in practice\nEnergy efficiency and renewable energy are key to boost the economic competitiveness of the EU\, its member states\, regions and individual businesses. Resulting economic growth provides jobs and the ability to invest in the further progress of the clean energy transition to the benefit of all citizens. Clean energy for economic competitiveness and how to make the clean energy transition work for business\, planet and people will therefore be core themes of the World\nSustainable Energy Days 2018. \nThe event will feature policies\, technology innovation and market development. It offers a unique combination of conferences and interactive events. \nThe annual conference brings together more than 700 delegates from over 50 countries from business\, public sector and the research community. \nAn AER political delegation will attend the event as decided on the occasion of the Committee 1 Plenary meeting in London (see AER Action Plan). Politicians of AER member regions\, who would like to represent AER at this event can contact the AER Coordinator for Policy and Knowledge exchange Johanna Pacevicius . \nCall for contributions: Young Researchers\nThe World Sustainable Energy Days are organising a Young Energy Researchers Conference and Young Energy Researchers Award. Dedicated to the next generation of professionals and experts\, two conference tracks present the work and achievements of young researchers in the fields of biomass and energy efficiency. As a region\, you want to make sure young researchers in your region get visibility and recognition. This is their opportunity to shine! \n\nCall for papers – deadline: 10 October 2017\nYoung researchers (born after 1982) are invited to submit contributions by 10 October 2017 at www.wsed.at/call. Submissions are welcome from all scientific fields. A high-level scientific committee selects papers for oral and poster presentation. Visit our website for detailed information.\nAwards “Best Young Energy Efficiency Researcher ” and “Best Young Biomass Researcher”\nThe best contributions will be honoured with the awards “Best Young Biomass Researcher” and “Best Young Energy Efficiency Researcher”. The researchers will each receive 1\,000 Euro as prize money. The winners will be selected from the oral presenters.\n\nThe organiser covers the costs of accommodation\, meals\, participation and local transport for up to 60 selected young researchers. Further information: www.young-researchers.eu \nHere you can read about Upper Austria’s achievements in the energy transition \nProgramme\n \n\nDirect links\nDetailed programme of events \nRegistrations & Information \nTravel and accommodation
URL:https://aer.eu/events/wsed-2018/
CATEGORIES:AER Member Events
ATTACH;FMTTYPE=image/jpeg:https://aer.eu/wp-content/uploads/2017/08/WSED_Logo_2018.jpg
END:VEVENT
BEGIN:VEVENT
DTSTART;VALUE=DATE:20180315
DTEND;VALUE=DATE:20180319
DTSTAMP:20260426T003052
CREATED:20180129T132352Z
LAST-MODIFIED:20180516T144734Z
UID:21489-1521072000-1521417599@aer.eu
SUMMARY:YRN General Assembly and Spring Plenary meeting 2018
DESCRIPTION:  \nRegister Here\nThe Youth Regional Network’s General Assembly and Spring Plenary Meeting will take place in Bodø\, Nordland (NO) from 15-18 March 2018. \nDeadline for registration: 1 March 2018 \nPlease find the programme below: \n \nMinutes & Presentations\nMinutes of the 2018 YRN GA & Plenary Meetings \n“How’s your friend feeling?” (County Council of Värmland) \nWorkshop: SDG-4 Quality Education (Gloria Vitaly\, YRN) \n YRN Presidium Report 2017-2018 \nDocuments and information\nRegistration Link \nPractical Information \nProgramme \nInvitation Letter \nDetailed Agenda + Working Documents \n2017 Annual Report – YRN Presidium \n  \n 
URL:https://aer.eu/events/yrn-general-assembly-spring-plenary-meeting-2018/
CATEGORIES:AER Youth Regional Network plenaries
ATTACH;FMTTYPE=image/png:https://aer.eu/wp-content/uploads/2018/01/Event-Posters.png
END:VEVENT
BEGIN:VEVENT
DTSTART;VALUE=DATE:20180320
DTEND;VALUE=DATE:20180323
DTSTAMP:20260426T003052
CREATED:20171206T154209Z
LAST-MODIFIED:20180827T160012Z
UID:21014-1521504000-1521763199@aer.eu
SUMMARY:AER Spring Committees Plenaries
DESCRIPTION:The spring plenaries of the three AER committees took place in Arad (Romania)\, from 20 till 22 (am) March 2018. \nRegistration closed\nAn innovation ecosystem brings together diverse actors which work for technology development and innovation. This includes policy makers\, economic development agencies and chambers of commerce\, universities\, research institutes\, colleges of engineering\, business schools\, companies\, funding agencies\, venture capitalists etc.  \nAcross wider Europe\, regions engage in multilevel cooperation to support the development of such innovation ecosystems either within their own territory\, or in collaboration with neighbouring regions and cities\, in national and cross-border frameworks. Regional policymakers will share experiences on what makes an innovation ecosystem and what makes it thrive. How to best organise multilevel cooperation for this? Participants will exchange about common barriers and enablers and identify useful recommendations to improve policies and practices. \nA major milestone at the Spring plenaries will be the development of the Committees’ work programmes: all regions are invited to share initiatives they would like to develop within the network\, with the AER priority “A democratic\, cooperative\, inclusive and sustainable Europe of Regions”. The plenaries are the perfect place to find partners for the implementation and develop new collaborations and projects*.  \n*Not sure who was who at the plenaries? Ask the Secretariat for an introduction! \nSee what happened during the event\nAER in Arad\, Romania for Spring Committee Plenaries \n \nApplications for elections in AER Committees \nOther Information\nPractical Information \nProgramme \nInvitation Letter \nWorking Documents \nRelated Content\n\nCommittees develop their 2018-2019 work programme\nOn the occasion of the Committees' plenaries in Arad\, AER members identified the topics which matter most for them and ...Read More\n\nAER\, a tool to further democracy in Europe\nNina Björby (Västerbotten\, SE)\, AER Vice President for democracy facilitated a breakfast discussion on democracy in practice. After describing her ...Read More\n\nAER Committee 2 President Mihai Ritivoiu looks back on the Plenaries in Arad\nAER’s Spring Committee Plenaries took place in Arad (Romania)\, from 20 to 22 March 2018 in the very beautiful location ...Read More\n\nAER’s Equal Opportunities Group: inspiring work for regions\nDay 2 of the Spring Plenaries 2018 ended with the update on the AER Equal Opportunities group activities and the ...Read More\n\nThe Committees’ plenaries: it’s all about sharing & learning\nTwice a year the AER Committees meet to share recent achievements\, launch new initiatives and learn from each others. At ...Read More\n\nMultilevel and Open Innovation Ecosystems discussed during Spring Committee Plenaries in Arad\nOn the occasion of the AER Spring plenaries in Arad\, the main topic was\, multilevel and open innovation ecosystems. This ...Read More\n\nAER explores E-Health\, Transport & Inclusion during workshops at Spring Committee Plenaries\nE-health workshop Agneta Granström (Norrbotten\, SE)\, Chair of the AER E-Health Network\, opened the workshop by providing a brief update ...Read More\n\nAER in Arad\, Romania for Spring Committee Plenaries\nThe AER Spring Committee Plenaries took place from 20 to 22 March 2018 in Arad\, Romania. Below you will find ...Read More
URL:https://aer.eu/events/committees-spring-plenary-meeting-2018/
LOCATION:Arad City Hall\, Bulevardul Revoluției 75\, Arad\, Arad\, 310130\, Romania
ATTACH;FMTTYPE=image/jpeg:https://aer.eu/wp-content/uploads/2017/12/Event-Posters3.jpg
END:VEVENT
END:VCALENDAR