BEGIN:VCALENDAR
VERSION:2.0
PRODID:-//Assembly of European Regions - ECPv6.1.3//NONSGML v1.0//EN
CALSCALE:GREGORIAN
METHOD:PUBLISH
X-ORIGINAL-URL:https://aer.eu
X-WR-CALDESC:Events for Assembly of European Regions
REFRESH-INTERVAL;VALUE=DURATION:PT1H
X-Robots-Tag:noindex
X-PUBLISHED-TTL:PT1H
BEGIN:VTIMEZONE
TZID:Europe/Paris
BEGIN:DAYLIGHT
TZOFFSETFROM:+0100
TZOFFSETTO:+0200
TZNAME:CEST
DTSTART:20170326T010000
END:DAYLIGHT
BEGIN:STANDARD
TZOFFSETFROM:+0200
TZOFFSETTO:+0100
TZNAME:CET
DTSTART:20171029T010000
END:STANDARD
END:VTIMEZONE
BEGIN:VEVENT
DTSTART;TZID=Europe/Paris:20170504T130000
DTEND;TZID=Europe/Paris:20170504T173000
DTSTAMP:20260424T200710
CREATED:20170418T131927Z
LAST-MODIFIED:20170506T123826Z
UID:15250-1493902800-1493919000@aer.eu
SUMMARY:EU funding for Turkish provinces
DESCRIPTION:Event hosted by Ankara Metropolitan Municipality \n \nVenue \nWyndham Ankara Hotel\nYasam Caddesi 4. Sokak No 4\nAnkara 06530 Turkey \n  \nSuccessful event on EU funding for Turkey \n \n Photos\n \nPresentations\nSakarya Metropolitan Municipality\nGaziantep Metropolitan Municipality\nDenizli Metropolitan Municipality\nIzmir Metropolitan Municipality \nAER Presentation\nPresentation by Ministry for European Union Affairs\, Turkish Republic \n  \nDraft programme\n \n  \nFor more information\, please contact f.martyn@aer.eu. \n  \n  \n 
URL:https://aer.eu/events/eu-funding-turkish-regions/
LOCATION:Wyndham Ankara Hotel\, Yasam Caddesi 4. Sokak No 4\, Ankara\, 06530\, Turkey
ATTACH;FMTTYPE=image/png:https://aer.eu/wp-content/uploads/2017/04/Presentation1.png
END:VEVENT
BEGIN:VEVENT
DTSTART;VALUE=DATE:20170506
DTEND;VALUE=DATE:20170510
DTSTAMP:20260424T200710
CREATED:20170313T153846Z
LAST-MODIFIED:20170620T133133Z
UID:14725-1494028800-1494374399@aer.eu
SUMMARY:YRN General Assembly & Spring Plenary
DESCRIPTION:The region of Vojvodina (Serbia) hosted the delegates from the AER Youth Regional Network for the YRN General Assembly and Spring Plenary meeting. All delegates then celebrated 60 years of Europe on the 9 May in Novi Sad\, together with the Delegation of the European Union in Serbia. \nDocuments\n\nAgenda\nMinutes from the Extraordinary General Assembly\nMinutes from the General Assembly\nMinutes from the Plenary meeting\nMinutes from the Committees’ meetings\nPractical information\n\nPresentations “towards a greener future in my region”\n\nHedmark\nHunedoara\nKrapina Zagorje\nLower Silesia\nNordland\nØstfold\nSaaremaa\nTimis\nVärmland\nVästernorrland\nVestfold\nWallonia-Brussels\nYerevan\n\nEnergy efficiency?!\nYRN delegates from all over Europe were asked to give their thoughts on energy efficiency. Hear what they think about it in Croatian\, German\, Norwegian\, Romanian\, Swedish\, Hungarian\, French\, Estonian\, Polish and Armenian ! \n \n Check out this video. \nPictures\nView the full gallery here.
URL:https://aer.eu/events/yrn-general-assembly-spring-plenary/
LOCATION:Vojvodina\, Andrevlje\, Serbia
CATEGORIES:AER Youth Regional Network plenaries
ATTACH;FMTTYPE=image/png:https://aer.eu/wp-content/uploads/2017/03/cover-pic-yrn.png
END:VEVENT
BEGIN:VEVENT
DTSTART;VALUE=DATE:20170531
DTEND;VALUE=DATE:20170603
DTSTAMP:20260424T200710
CREATED:20170123T141610Z
LAST-MODIFIED:20200121T092709Z
UID:13920-1496188800-1496447999@aer.eu
SUMMARY:2017 General Assembly & Summer Bureau
DESCRIPTION:The region of Lower Austria was the proud host of the 2017 General Assembly of the Assembly of European Regions. \nDocuments\nPractical information\nGeneral Assembly agenda \nCommittee action plan presentations\nCommittee 1 Presentation\nCommittee 2 Presentation \nThematic Conference – 01/06 pm\n2017-05-01 AER Thematic Conference Agenda.pdf\nClaus ZEPPELZAUER – The innovation pyramid.pdf\nGeorg Schneider – World Class Research Institute.pdf\nJean-Luc Vanraes.pdf\nSabine Siegl – Karl Landsteiner.pdf \nProgramme\n  \n \nRelated articles\n\nAER presents its new branding\, for a stronger Europe\nOn Tuesday 20 June\, AER launched its new visual identity. This new branding symbolises AER's political priority: "A Stronger Europe" ...Read More\n\nMYFER Award ceremony\nThe Most Youth Friendly European Region Award ceremony took place yesterday in Sankt Pölten\, Lower Austria on the occasion of ...Read More\n\nAER elects a new Executive Board!\nMonday (31 May)\, during AER's General Assembly\, a new Executive Board was elected. It has a mandate of 2 years\, as stated ...Read More\n\nAER launches its report on Regionalisation\nToday\, during AER's General Assembly\, our outgoing President launched AER's Report on the state of Regionalisation in Europe. The story ...Read More\n\nAER starts its General Assembly in Sankt Pölten (AT)\nWe are halfway into today's General Assembly and all reports have been given. The next step is the election of ...Read More\n\nFollow up on youth mental health: join our working meeting at 2017 AER General Assembly\nFollowing the discussion on youth mental health on occasion of the AER Spring Plenaries\, AER Secretariat is fully supporting the ...Read More\n\nThe first European Silver Economy Awards at the AER General Assembly\nThe AER General Assembly is one of the launching events of the fist European level Silver Economy Awards. AER is ...Read More\n\nAER Election Committee nominations for the elections at the General Assembly 2017\nPer AER Statute and Procedures\, elections for the Executive Board and the Election Committee and ratification of the members of ...Read More			\n			\n\nContact\nFreddie Martyn\nAER Communications and Events Coordinator\nf.martyn@aer.eu
URL:https://aer.eu/events/2017-general-assembly/
CATEGORIES:AER Bureau plenaries,AER General Assemblies
ATTACH;FMTTYPE=image/jpeg:https://aer.eu/wp-content/uploads/2019/07/AER-Logo-For-External-Use-01.jpg
END:VEVENT
END:VCALENDAR