BEGIN:VCALENDAR
VERSION:2.0
PRODID:-//Assembly of European Regions - ECPv6.1.3//NONSGML v1.0//EN
CALSCALE:GREGORIAN
METHOD:PUBLISH
X-ORIGINAL-URL:https://aer.eu
X-WR-CALDESC:Events for Assembly of European Regions
REFRESH-INTERVAL;VALUE=DURATION:PT1H
X-Robots-Tag:noindex
X-PUBLISHED-TTL:PT1H
BEGIN:VTIMEZONE
TZID:Europe/Brussels
BEGIN:DAYLIGHT
TZOFFSETFROM:+0100
TZOFFSETTO:+0200
TZNAME:CEST
DTSTART:20220327T010000
END:DAYLIGHT
BEGIN:STANDARD
TZOFFSETFROM:+0200
TZOFFSETTO:+0100
TZNAME:CET
DTSTART:20221030T010000
END:STANDARD
END:VTIMEZONE
BEGIN:VEVENT
DTSTART;TZID=Europe/Brussels:20220617T100000
DTEND;TZID=Europe/Brussels:20220617T130000
DTSTAMP:20260424T141612
CREATED:20220530T151011Z
LAST-MODIFIED:20220608T111730Z
UID:40456-1655460000-1655470800@aer.eu
SUMMARY:Just Announced: Join AER's Event on Regional Support for Ukraine
DESCRIPTION:In the context of the war in Ukraine\, a number of initiatives\, led by cities\, regions\, institutions\, and civil society organisations have been set up. \nFor that reason\, the AER is organising a webinar on Friday\, 17 June to share information on ongoing initiatives and available support to Ukrainian regions\, provide examples and experiences from regions in their support to Ukraine\, and hear from Ukrainian regions what they need in terms of support. The overall goal is to help regions provide support that really makes an impact on the ground in Ukraine. \nYou can register and view the draft agenda using the buttons above. We hope you can join us for this timely\, crucial discussion to share your insights\, experiences and ideas for strengthening partnerships with Ukrainian regions. 🇺🇦 \n***More information will follow shortly\, so be sure to keep an eye on this event page for updates.  \n 
URL:https://aer.eu/events/just-announced-join-aers-event-on-regional-support-for-ukraine/
LOCATION:Zoom
CATEGORIES:Other Events,Ukraine
ATTACH;FMTTYPE=image/jpeg:https://aer.eu/wp-content/uploads/2022/05/Ukraine-Event-V1.jpg
END:VEVENT
END:VCALENDAR