BEGIN:VCALENDAR
VERSION:2.0
PRODID:-//Assembly of European Regions - ECPv6.1.3//NONSGML v1.0//EN
CALSCALE:GREGORIAN
METHOD:PUBLISH
X-WR-CALNAME:Assembly of European Regions
X-ORIGINAL-URL:https://aer.eu
X-WR-CALDESC:Events for Assembly of European Regions
REFRESH-INTERVAL;VALUE=DURATION:PT1H
X-Robots-Tag:noindex
X-PUBLISHED-TTL:PT1H
BEGIN:VTIMEZONE
TZID:Europe/Warsaw
BEGIN:DAYLIGHT
TZOFFSETFROM:+0100
TZOFFSETTO:+0200
TZNAME:CEST
DTSTART:20230326T010000
END:DAYLIGHT
BEGIN:STANDARD
TZOFFSETFROM:+0200
TZOFFSETTO:+0100
TZNAME:CET
DTSTART:20231029T010000
END:STANDARD
END:VTIMEZONE
BEGIN:VEVENT
DTSTART;VALUE=DATE:20231114
DTEND;VALUE=DATE:20231116
DTSTAMP:20260420T222152
CREATED:20230818T135030Z
LAST-MODIFIED:20231005T101855Z
UID:45756-1699920000-1700092799@aer.eu
SUMMARY:SAVE THE DATE: Build partnerships with Catalonia at ReBuild Ukraine 2023
DESCRIPTION:Is your region coming to ReBuild Ukraine 2023? \nAs part of ReBuild Ukraine 2023\, ACCIÓ / Catalonia Trade & Investment is looking for Ukrainian partners to connect with Catalan companies\, its business community and economic institutions. \nOver two days in Warsaw\, Poland on 14—15 November\, ACCIÓ will bring together more than a dozen Catalan SMEs representing both the Construction and Energy Sectors looking for partners in Ukraine. \nThe objective is to better understand the needs for reconstruction\, to network\, and build peer-to-peer partnerships to support Ukraine’s reconstruction. \nACCIÓ therefore invites our members in Ukraine to take this opportunity to come together in-person during the Conference\, and to share expertise\, networks and knowledge that will power Ukraine’s recovery. \nHow can Ukrainian members take part?\nIf your region is planning to or is interested in meeting with Catalonia Trade & Investment at the ReBuild Ukraine Expo\, please send an email to Member Relations Coordinator\, Justin Sammon\, with ‘ReBuild Ukraine’ in the subject line\, and we will help facilitate. \nTo attend ReBuild Ukraine\, you will need to purchase a ticket; you can fill in the form to be notified when registrations open.  Please note that neither ACCIÓ nor AER are organisers of the wider event\, and cannot provide members with tickets. \nHow can members more broadly take part?\nIf your region is interested in exhibiting\, or you wish to buy a ticket to attend the event\, you can find more information HERE. \n*** \n\nUkraine Focus Group—new partnerships between Catalonia Trade & Investment and Ukrainian Regions\nAt the launch of a new platform for cooperation between EU and Ukrainian enterprises\, Catalonia Trade and Investment (ACCIÓ) signed ...Read More\n\nAER President issues statement following recent attacks on Ukraine\nIn the first week of September 2024\, a Russian barrage targeted the civilian populations and infrastructure of Kharkiv\, Kryvyi Rih\, ...Read More\n\nThe Forum of Polish and Ukrainian Cities takes place in Kryvyi Rih\nPolish and Ukrainian cities\, with the participation of the AER\, held a Forum in Kryvyi Rih (Ukraine) regarding ongoing cooperation ...Read More\n\nAER Ukraine Focus Group—Regional Partners for Reconstruction\nAER's unique community of regional stakeholders is focusing minds to support Ukraine's recovery AER's Focus Group on Ukraine has continued ...Read More\n\nAER Focus Group on Ukraine – tell us how your region can support!\nAER's peer-to-peer Focus Group coordinates support for Ukraine On the one year anniversary of Russia's unprovoked war of aggression against ...Read More\n\nAER stands with Ukraine\nRussia's unprovoked war of aggression against Ukraine violates international law\, undermines global security\, and tears innocent lives apart. In the ...Read More\n\nAER’s Regions stand with Ukraine – European solidarity in action\nLast February\, Ukraine suffered the full force of Russian aggression. Russia's military invasion of the country marked the beginning of ...Read More\n\nAER releases statement on Invasion of Ukraine\nAhead of the Russian invasion of Ukraine\, on 22 February\, AER President\, Magnus Berntsson and Secretary General\, Christian Spahr issued ...Read More
URL:https://aer.eu/events/save-the-date-join-catalonia-at-rebuild-ukraine-2023/
LOCATION:Expo XXI\, Ui. Pradzynskiego 12/14\, Warsaw\, 01-222\, Poland
CATEGORIES:AER Member Events,Other Events,Ukraine
ATTACH;FMTTYPE=image/jpeg:https://aer.eu/wp-content/uploads/2023/08/Copy-of-Session-1-jpg.webp
END:VEVENT
END:VCALENDAR