BEGIN:VCALENDAR
VERSION:2.0
PRODID:-//Assembly of European Regions - ECPv6.1.3//NONSGML v1.0//EN
CALSCALE:GREGORIAN
METHOD:PUBLISH
X-ORIGINAL-URL:https://aer.eu
X-WR-CALDESC:Events for Assembly of European Regions
REFRESH-INTERVAL;VALUE=DURATION:PT1H
X-Robots-Tag:noindex
X-PUBLISHED-TTL:PT1H
BEGIN:VTIMEZONE
TZID:Europe/Brussels
BEGIN:DAYLIGHT
TZOFFSETFROM:+0100
TZOFFSETTO:+0200
TZNAME:CEST
DTSTART:20210328T010000
END:DAYLIGHT
BEGIN:STANDARD
TZOFFSETFROM:+0200
TZOFFSETTO:+0100
TZNAME:CET
DTSTART:20211031T010000
END:STANDARD
END:VTIMEZONE
BEGIN:VEVENT
DTSTART;TZID=Europe/Brussels:20210609T100000
DTEND;TZID=Europe/Brussels:20210609T113000
DTSTAMP:20260425T061537
CREATED:20210421T094258Z
LAST-MODIFIED:20210602T101537Z
UID:36392-1623232800-1623238200@aer.eu
SUMMARY:REGISTER NOW! - Back to Our Future - Regions leading Europe's Green Recovery
DESCRIPTION:Date: 9 June \nTime: 10:00 – 11:30 CEST \n***UPDATE *** We are delighted to announce we will be joined by Dominique Riquet\, Member of the European Parliament and Rapporteur on the Opinion of the Committee on Transport and Tourism on the Just Transition Fund. \nThe COVID-19 crisis brought the world to a standstill in 2020. City centres became ghost towns\, economic activity slumped\, and political priorities fell by the wayside as managing the pandemic became the all-consuming political focus. \nYet\, though it faded into the political background\, what did not stand still is the dangerous rate at which our planet is heating up. While the COVID-19 pandemic is a crisis of the now\, failing to get back on track to meet our 2030 targets puts our entire future in jeopardy. As we emerge from the pandemic\, it is time to get ‘Back to Our Future’ and put our climate targets back at the top of the political agenda.  \nThat is why on 9 June as part of EU Green Week\, the AER Bureau will bring together policymakers and experts to discuss the role of regions in tackling the climate crisis and delivering a green recovery. Speakers will consider the following questions: \n\nWhere will the European climate strategies take us in terms of alignments with the Paris and 2030 Agenda goals?\nHow can the COVID-19 recovery and climate action work together?\nWhat opportunities and challenges do regional authorities face in delivering a fair transition to a climate neutral economy?\nHow can we develop multi-level and multi-stakeholder partnerships that deliver a just transition to a sustainable future?\n\nThe speakers for this debate will be: \n\nVeronika Hunt Šafránková\, Head of United Nations Environment Programme Brussels Office\nElena Višnar-Malinovská\, Head of Unit for Adaptation\, Directorate-General for Climate Action\, European Commission\nAndries Gryffroy\, Member of the European Committee of the Regions and Rapporteur on the European Green Deal\nDominique Riquet\, Member of the European Parliament\, Rapporteur on the Opinion of the Committee on Transport and Tourism on the Just Transition Fund.
URL:https://aer.eu/events/save-the-date-back-to-our-future-regions-leading-europes-green-recovery/
CATEGORIES:AER Events
ATTACH;FMTTYPE=image/jpeg:https://aer.eu/wp-content/uploads/2021/04/Visual-Bureau-9-June.jpg
END:VEVENT
END:VCALENDAR