BEGIN:VCALENDAR
VERSION:2.0
PRODID:-//Assembly of European Regions - ECPv6.1.3//NONSGML v1.0//EN
CALSCALE:GREGORIAN
METHOD:PUBLISH
X-ORIGINAL-URL:https://aer.eu
X-WR-CALDESC:Events for Assembly of European Regions
REFRESH-INTERVAL;VALUE=DURATION:PT1H
X-Robots-Tag:noindex
X-PUBLISHED-TTL:PT1H
BEGIN:VTIMEZONE
TZID:Europe/Brussels
BEGIN:DAYLIGHT
TZOFFSETFROM:+0100
TZOFFSETTO:+0200
TZNAME:CEST
DTSTART:20210328T010000
END:DAYLIGHT
BEGIN:STANDARD
TZOFFSETFROM:+0200
TZOFFSETTO:+0100
TZNAME:CET
DTSTART:20211031T010000
END:STANDARD
END:VTIMEZONE
BEGIN:VEVENT
DTSTART;TZID=Europe/Brussels:20210216T100000
DTEND;TZID=Europe/Brussels:20210216T110000
DTSTAMP:20260424T234739
CREATED:20210125T201930Z
LAST-MODIFIED:20230413T163942Z
UID:35023-1613469600-1613473200@aer.eu
SUMMARY:Intercultural Regions: Active Participation & Social Inclusion
DESCRIPTION:We are pleased to invite you to a webinar on how regions can foster active participation & social inclusion of third-country nationals\, together with IOM and the Council of Europe\n \n  \nWhen? 16 February 2021 10:00 CETWhere? Gotowebinar \n  \nOrganised in the framework of the Includ-EU project\, an EU-funded project which contributes to building more inclusive societies by enhancing knowledge and stimulating cooperation between local and regional authorities in the European Union\, this third webinar will focus on active participation & social inclusion. \nPolicies and practices that foster intercultural interaction and inclusion are instrumental in enabling cities and regions to manage diversity positively and realise the diversity advantage. This webinar will therefore focus on regional and local experiences facilitating migrant’s active participation and social inclusion. \nThis event will be facilitated by the Council of Europe and will feature practices identified in some of the countries involved in the Project (Greece\, Italy\, the Netherlands\, Romania\, Slovenia\, and Spain). DG HOME will provide an overview on measures promoting active participation\, especially in the decision-making process\, as per the new EU priorities included in the updated Action Plan. \nThis webinar is organised in the framework of the Includ-EU project\, in close collaboration with the Intercultural Regions Network. The Intercultural Regions Network is a platform for regions to share knowledge\, resources\, and experiences to promote intercultural integration at the regional level\, which is based on the experience and tools of the Council of Europe’s Intercultural Cities Network. \nThis event will be recorded. By registering for this event\, you agree to allow the Includ-EU consortium to publish the recording online and use it for the promotion of the project\, capacity building\, and mutual learning.  \n\n\n\nWatch back!\n Click here!\n\n\nAgenda\n Click here to download\n\n\nHandouts\nAngeliki Petrits –  DG HOME – The Action Plan on Integration & Inclusion 2021-2027 \n Jobst Koehler – IOM – Barriers to Participation \n Jossie Rocafort – Catalonia – Equipo de Atención y de Mediación Intercultural Sociosanitaria\, EAMISS \n Elena Tubertini – University of Padua – Mentorship Project 2020/2021\n\n\nContact\nprojects@aer.eu\n\n\n\n \nInclud-EU is funded by the European Union’s Asylum Migration and Integration Fund (AMIF). The project runs from January 2020 to December 2022 and involves the following partners: The International Organization for Migration\, the Assembly of European Region\, the Associazione Nazionale Comuni Italiani Sez. Reg. Toscana (IT)\, the City of Tilburg (NL)\, the Secretariat for Equality\, Migrations\, and Citizenship of Catalonia (ES)\, and the Region of Crete (GR).
URL:https://aer.eu/events/intercultural-regions-participation-inclusion/
LOCATION:Online
CATEGORIES:AER Events
ATTACH;FMTTYPE=image/jpeg:https://aer.eu/wp-content/uploads/2021/01/Third-draft-INCLUDE-EU-graphic-for-twitter.jpg
END:VEVENT
END:VCALENDAR