BEGIN:VCALENDAR
VERSION:2.0
PRODID:-//Assembly of European Regions - ECPv6.1.3//NONSGML v1.0//EN
CALSCALE:GREGORIAN
METHOD:PUBLISH
X-ORIGINAL-URL:https://aer.eu
X-WR-CALDESC:Events for Assembly of European Regions
REFRESH-INTERVAL;VALUE=DURATION:PT1H
X-Robots-Tag:noindex
X-PUBLISHED-TTL:PT1H
BEGIN:VTIMEZONE
TZID:Europe/Brussels
BEGIN:DAYLIGHT
TZOFFSETFROM:+0100
TZOFFSETTO:+0200
TZNAME:CEST
DTSTART:20200329T010000
END:DAYLIGHT
BEGIN:STANDARD
TZOFFSETFROM:+0200
TZOFFSETTO:+0100
TZNAME:CET
DTSTART:20201025T010000
END:STANDARD
END:VTIMEZONE
BEGIN:VEVENT
DTSTART;TZID=Europe/Brussels:20201211T111500
DTEND;TZID=Europe/Brussels:20201211T121500
DTSTAMP:20260424T203236
CREATED:20201124T124308Z
LAST-MODIFIED:20201127T103645Z
UID:34609-1607685300-1607688900@aer.eu
SUMMARY:New mobility services: Anticipating Skills and Job Roles
DESCRIPTION:We are pleased to invite you to the webinar “New mobility services: Anticipating skills and job roles” that aims to bridge the gap between the skills and job roles needed for the new mobility services sector and the workforce. \nNew mobility services are offering solutions to today’s growing challenges in terms of congestion\, lack of space\, growing population\, air quality\, noise\, social inclusion\, health\, economic development\, and the creation of jobs. These solutions require skilled and adaptable individuals who are able to drive and support change. However\, there is a growing skills shortage in the mobility services sector which could seriously delay the development of the services and hurt customers’ expectations. Thus it is required to look into new skills for the future workforce but also opportunities realized through reskilling the workforce.  \nAbout the webinar\nThe event will be held within the sixth edition of the Skillman International Forum focused on ‘Redefining the Future of Learning in the Advanced Manufacturing Sector’. Additionally\, it is part of the Skillnet series of 18 webinars designed to bring together experts in different fields linked to vocational education and training (VET) with the purpose of establishing relevant groups of collaboration and partnerships for future EU project proposals. \nThe webinar will highlight regional examples on the integration of new mobility services and the development of skills and job roles needed in the sector. In this context\, it aims to: \n\nHighlight the relevance of EU funding opportunities and European cooperation in bridging the skills’ gap in the new mobility services sector\nShare good practices about how regions and local companies can foster the relevant skills in the population\nBoost a network of cross-sectoral experts interested in the new mobility services that can be applied for future EU funding opportunities.\n\nHow to join the webinar?\nOnly one registration is given for all the events within the Skillman International Forum (SIF). Hence\, to join the event\, you have to register to Skillman International Forum and participants will be re-directed from the plenary (main room) to the various sessions in the course the event through break-out rooms. \nIf you cannot attend the whole SIF\, you may access the event at least 15 minutes before the beginning of the webinar “Circular Economy: Opportunities and Needs in the Labour Market” (starting time 15:30) so that you can be re-directed to the session. \n  \n\nREGISTER HERE\n\n  \n\nThis webinar is organised in the context of SKILLNET\, an EU-funded project which aims to strengthen the Vocational Education and Training (VET) system’s role and capacity to design high-quality VET programmes tailored to current societal needs through enhanced transnational and cross-sectoral partnerships.
URL:https://aer.eu/events/new-mobility-services-anticipating-skills-and-job-roles/
LOCATION:Online
CATEGORIES:AER Events
ATTACH;FMTTYPE=image/jpeg:https://aer.eu/wp-content/uploads/2020/11/2.jpg
END:VEVENT
END:VCALENDAR