BEGIN:VCALENDAR
VERSION:2.0
PRODID:-//Assembly of European Regions - ECPv6.1.3//NONSGML v1.0//EN
CALSCALE:GREGORIAN
METHOD:PUBLISH
X-ORIGINAL-URL:https://aer.eu
X-WR-CALDESC:Events for Assembly of European Regions
REFRESH-INTERVAL;VALUE=DURATION:PT1H
X-Robots-Tag:noindex
X-PUBLISHED-TTL:PT1H
BEGIN:VTIMEZONE
TZID:Europe/Brussels
BEGIN:DAYLIGHT
TZOFFSETFROM:+0100
TZOFFSETTO:+0200
TZNAME:CEST
DTSTART:20200329T010000
END:DAYLIGHT
BEGIN:STANDARD
TZOFFSETFROM:+0200
TZOFFSETTO:+0100
TZNAME:CET
DTSTART:20201025T010000
END:STANDARD
END:VTIMEZONE
BEGIN:VEVENT
DTSTART;TZID=Europe/Brussels:20201118T100000
DTEND;TZID=Europe/Brussels:20201118T113000
DTSTAMP:20260424T174457
CREATED:20201027T120145Z
LAST-MODIFIED:20201130T170912Z
UID:33824-1605693600-1605699000@aer.eu
SUMMARY:Digital Health\, Wellbeing and Smart Specialisation
DESCRIPTION:The AER Digital Health Network is pleased to invite you to a webinar on \n“Digital Health\, Wellbeing and Smart Specialisation” \nIn partnership with Region Värmland\, Scottish Government\, Digital Health & Care Innovation Centre \nThe rapidly evolving digitalisation of health and wellbeing requires new knowledge and collaboration models to accelerate growth globally. Small to medium-sized enterprises (SMEs) need to increase their business development expertise and capabilities in the field of digital health. Health care providers need to speed up their adoption of digital innovations and assess the impact of digital solutions on healthcare processes. New collaborative action models at the European level will speed up this development and knowledge building. \nObjective\nThe webinar will present the experiences of two AER regions on: \n\nsupporting the development of digital solutions that support healthy living.\nfostering collaboration between the public sector\, universities; civil organisations\, entrepreneurs\, and businesses.\nhow we intend to achieve business growth and efficiency in public health services.\nhow digital health innovation fits with our regions’ smart specialisation strategies.\n\n  \nProgramme\n10.00 – 10.05: Welcome and introductions: \n\nKenneth Johannesson\, AER Committee on Social Policy and Public Health\, Vice President for Health Innovation / Councillor Region Värmland\nDonna Henderson\, Chair of AER Digital Health Network / Head of International Engagement\, TEC & Digital Healthcare Innovation\, Scottish Government\n\n\n10.05 – 10.35: Setting the Scene – Smart Specialisation in Värmland and Scotland \n\nAnders Olsson\, Manager of Research and Innovation\,  Värmland Dept of Regional Growth\nLinda Murray\, Director of Strategy\, Scottish Enterprise\n\n10.35 – 11.15: Creating an ecosystem for digital health and wellness \n\nMagnus Bårdén\, Process Leader\, DigitalWell Arena\, (Region Värmland\, Sweden)\nProf George Crooks\, Chief Executive\, Digital Health and Care Innovation Centre. (Scotland\, UK)\n\n11.15 – 11.30:  Q&A and discussion: about common approaches\, opportunities for collaboration\, etc \n  \n\n\n\nWatch back\nClick here\n\n\nAgenda\nClick here to download\n\n\nContact\nknowledge@aer.eu\n\n\n\n \n  \n\n \n  \n  \n 
URL:https://aer.eu/events/digital-health-webinar/
LOCATION:Online
CATEGORIES:AER Events
ATTACH;FMTTYPE=image/jpeg:https://aer.eu/wp-content/uploads/2020/10/Knowledge-Exchange-Webinar-Digital-Health-Wellbeing-and-Smart-Specialisation-18-November-2020-10.00-11.30-CET-1.jpg
END:VEVENT
END:VCALENDAR