BEGIN:VCALENDAR
VERSION:2.0
PRODID:-//Assembly of European Regions - ECPv6.1.3//NONSGML v1.0//EN
CALSCALE:GREGORIAN
METHOD:PUBLISH
X-ORIGINAL-URL:https://aer.eu
X-WR-CALDESC:Events for Assembly of European Regions
REFRESH-INTERVAL;VALUE=DURATION:PT1H
X-Robots-Tag:noindex
X-PUBLISHED-TTL:PT1H
BEGIN:VTIMEZONE
TZID:Europe/Brussels
BEGIN:DAYLIGHT
TZOFFSETFROM:+0100
TZOFFSETTO:+0200
TZNAME:CEST
DTSTART:20200329T010000
END:DAYLIGHT
BEGIN:STANDARD
TZOFFSETFROM:+0200
TZOFFSETTO:+0100
TZNAME:CET
DTSTART:20201025T010000
END:STANDARD
END:VTIMEZONE
BEGIN:VEVENT
DTSTART;TZID=Europe/Brussels:20201021T100000
DTEND;TZID=Europe/Brussels:20201021T111500
DTSTAMP:20260424T091626
CREATED:20201012T132542Z
LAST-MODIFIED:20201022T080437Z
UID:33761-1603274400-1603278900@aer.eu
SUMMARY:Lifelong learning: Upskilling and reskilling of 50+
DESCRIPTION:  \nWe are pleased to invite you to the webinar “Lifelong learning: upskilling and reskilling of 50+” that aims to bridge the gap between the need for reskilling and upskilling and funding opportunities and programmes offered by the EU. \n  \nThis webinar will highlight regional examples on upskilling and re-skilling and provide insights into the funding mechanisms used. \nIn the context of rapidly changing labour markets\, the upskilling and re-skilling of adults has become a priority. Technological changes and digitalisation require new skills\, while many regions in Europe are faced with both an ageing population and labour and skills shortages. People over 50 oftentimes are not the target group approached for the majority of employers and there is a consistent association between ageing and reduced participation in learning. Effective social inclusion and employment policies\, therefore\, require strong and regularly updated skill foundations. \nDuring this webinar\, Ms Elena Romanini\,  Senior Project Manager\, Skillman\, will explain different programmes and funds on lifelong learning offered by the European Union.  Mr Michael Heaney\, Chief Executive Officer\, Údarás na Gaeltachta will share possibilities in which programmes and projects on re-skilling and upskilling are financed and implemented from the regional perspective. Ms Ana Gale\, Director of Uciliste Studium – Institution for Adult Education will emphasize the importance of the development of the skills in accordance with the industry needs.  She will share the implementation example on cross-border cooperation in the field of upskilling and reskilling adults. \nThe webinar will cover: \n\n10.00 – 10.10 Introduction to the Skillman network and to the webinar (Valentina De Vico\, Skillman Communication Manager)\n10.10 – 10.20 EU fund opportunities for lifelong learning (Elena Romanini\, Skillman Senior Project Manager)\n10.20 – 10.30 Empowering adults to reskill and upskill (Michael Heaney\, Chief Executive Officer\, Údarás na Gaeltachta)\n10.30 – 10.40 Cross-border cooperation in the field of lifelong learning (Ana Gale\, Director\, Uciliste Studium – Institution for Adult Education)\n10.40 – 11.05 Panel discussion and Q&A session\n11.05 – 11.15 Closing remarks\n\n  \nThis webinar is organised in the context of SKILLNET\, an EU-funded project which aims to strengthen the Vocational Education and Training (VET) system’s role and capacity to design high-quality VET programmes tailored to current societal needs through enhanced transnational and cross-sectoral partnerships. \n\n\n\n REWATCH IT NOW! \n\n\n\n    
URL:https://aer.eu/events/upskilling-reskilling-webinar/
CATEGORIES:AER Events
ATTACH;FMTTYPE=image/jpeg:https://aer.eu/wp-content/uploads/2020/10/1.jpg
END:VEVENT
END:VCALENDAR