BEGIN:VCALENDAR
VERSION:2.0
PRODID:-//Assembly of European Regions - ECPv6.1.3//NONSGML v1.0//EN
CALSCALE:GREGORIAN
METHOD:PUBLISH
X-ORIGINAL-URL:https://aer.eu
X-WR-CALDESC:Events for Assembly of European Regions
REFRESH-INTERVAL;VALUE=DURATION:PT1H
X-Robots-Tag:noindex
X-PUBLISHED-TTL:PT1H
BEGIN:VTIMEZONE
TZID:Europe/Paris
BEGIN:DAYLIGHT
TZOFFSETFROM:+0100
TZOFFSETTO:+0200
TZNAME:CEST
DTSTART:20180325T010000
END:DAYLIGHT
BEGIN:STANDARD
TZOFFSETFROM:+0200
TZOFFSETTO:+0100
TZNAME:CET
DTSTART:20181028T010000
END:STANDARD
END:VTIMEZONE
BEGIN:VEVENT
DTSTART;TZID=Europe/Paris:20181011T143000
DTEND;TZID=Europe/Paris:20181011T160000
DTSTAMP:20260424T120257
CREATED:20180724T080107Z
LAST-MODIFIED:20181004T145604Z
UID:23923-1539268200-1539273600@aer.eu
SUMMARY:Cohesion for Enlargement: Thriving in a stronger union
DESCRIPTION:The European Week of Regions and Cities 2018 is taking place 8-11 October in Brussels\, and AER will be hosting a workshop on Cohesion for Enlargement: Thriving in a stronger Union.  \nThe event will be held on 11 October from 14:30-16:00 at Square – Brussels Convention Centre. \nIn the context of evolving debates and negotiations on the new EU budget and future cohesion policy post-2020\, and the EU’s renewed commitment to the Western Balkans\, this workshop will look at the role cohesion policy plays in strengthening the enlargement process in the region. Has cohesion policy helped bring the Western Balkans closer to the EU? Does the proposed cohesion policy framework preserve its relevance as a cornerstone in the EU-Western Balkans partnership? Is the proposed reform fit for a stronger and enlarged Union? These are some of the questions to be explored in this workshop debate. \nRegistration is now closed \nIf you have any questions please contact: \nVania Freitas\nv.freitas@aer.eu
URL:https://aer.eu/events/workshop-cohesion-for-enlargement-thriving-in-a-stronger-union/
LOCATION:Square – Brussels Convention Centre\, Mont des Arts/Kunstberg B-1000 Brussels\, Belgium
CATEGORIES:AER Events
ATTACH;FMTTYPE=image/jpeg:https://aer.eu/wp-content/uploads/2018/07/european-week-of-regions-and-cities.jpg
END:VEVENT
END:VCALENDAR