BEGIN:VCALENDAR
VERSION:2.0
PRODID:-//Assembly of European Regions - ECPv6.1.3//NONSGML v1.0//EN
CALSCALE:GREGORIAN
METHOD:PUBLISH
X-ORIGINAL-URL:https://aer.eu
X-WR-CALDESC:Events for Assembly of European Regions
REFRESH-INTERVAL;VALUE=DURATION:PT1H
X-Robots-Tag:noindex
X-PUBLISHED-TTL:PT1H
BEGIN:VTIMEZONE
TZID:Europe/Paris
BEGIN:DAYLIGHT
TZOFFSETFROM:+0100
TZOFFSETTO:+0200
TZNAME:CEST
DTSTART:20180325T010000
END:DAYLIGHT
BEGIN:STANDARD
TZOFFSETFROM:+0200
TZOFFSETTO:+0100
TZNAME:CET
DTSTART:20181028T010000
END:STANDARD
END:VTIMEZONE
BEGIN:VEVENT
DTSTART;VALUE=DATE:20180905
DTEND;VALUE=DATE:20180907
DTSTAMP:20260424T091609
CREATED:20180514T085139Z
LAST-MODIFIED:20180828T065216Z
UID:22778-1536105600-1536278399@aer.eu
SUMMARY:Black Sea Summit
DESCRIPTION:AER is organizing the 7th edition of its Black Sea Summit on 5-6 September 2018 in Odessa (UA). \nIn partnership with the German Marshall Fund and hosted by the region of Odessa\, the Summit will tackle the synergies between the Black Sea and the Danube area. \nThe event will be the occasion to present the opportunities this region offers for peace and prosperity in Europe. \nWith a distinguished list of speakers and participants\, we hope you will (re)-discover the wealth this part of the world has to offer. \nAER is also proud to present the role interregional diplomacy plays in Europe to a wider audience gathered by its partner\, the German Marshall Fund.  \nWe look forward to seeing you in Odessa! \nProgramme\n\n  \nPractical Information \n  \nRegister here
URL:https://aer.eu/events/black-sea-summit-2/
CATEGORIES:AER Events
ATTACH;FMTTYPE=image/png:https://aer.eu/wp-content/uploads/2018/05/Event-Image.png
END:VEVENT
END:VCALENDAR