BEGIN:VCALENDAR
VERSION:2.0
PRODID:-//Assembly of European Regions - ECPv6.1.3//NONSGML v1.0//EN
CALSCALE:GREGORIAN
METHOD:PUBLISH
X-ORIGINAL-URL:https://aer.eu
X-WR-CALDESC:Events for Assembly of European Regions
REFRESH-INTERVAL;VALUE=DURATION:PT1H
X-Robots-Tag:noindex
X-PUBLISHED-TTL:PT1H
BEGIN:VTIMEZONE
TZID:Europe/Paris
BEGIN:DAYLIGHT
TZOFFSETFROM:+0100
TZOFFSETTO:+0200
TZNAME:CEST
DTSTART:20180325T010000
END:DAYLIGHT
BEGIN:STANDARD
TZOFFSETFROM:+0200
TZOFFSETTO:+0100
TZNAME:CET
DTSTART:20181028T010000
END:STANDARD
END:VTIMEZONE
BEGIN:VEVENT
DTSTART;VALUE=DATE:20180417
DTEND;VALUE=DATE:20180420
DTSTAMP:20260424T215636
CREATED:20170829T220000Z
LAST-MODIFIED:20180522T120000Z
UID:16344-1523923200-1524182399@aer.eu
SUMMARY:Study visit on the energy transition
DESCRIPTION:On the occasion of the London Committee 1 plenary meeting\, members agreed to organise a study visit on the energy transition in Gelderland (NL) to share and learn from each other’s experiences. \nThe Province of Gelderland invites all AER members to take part in a study-visit to get to know this unique multi-stakeholder collaboration for an energy-neutral Province. \nSee the programme here \nRegistration Closed\nDeadline (30 March) \nStudy visit\nThe main focus of the study visit\, which will be organised in cooperation with other interregional networks\, will be the bottom-up approach for the energy transition\, which was implemented in the region. This multi-stakeholder cooperation was materialised by the Gelders’ Energy agreement (GEA). The shared goal is to make the province energy-neutral by 2050. Local and regional industries\, governments and NGOs’ in the province of Gelderland\, Netherlands\, have pledged for the province to become energy-neutral by 2050. It facilitates a co-creative process where initiatives\, actors\, and energy are integrated into society. \nTo this aim local and regional industries\, governments and NGOs’ in the province of Gelderland have set ambitious goals for themselves. The energy agreement facilitates a co-creative process where initiatives\, actors\, and energy are integrated into society. \nGood practice sharing:\nParticipants will share good practice and experience\, they will in particular: \n\nobserve GEA’s working process\nmeet with GEA’s regional partners\ncarry out visits to observe regional results\nparticipate in a serious game on energy and the diverging interests of stakeholders to exchange about challenges.\n\nWho can participate?\n\nRegions\nRegional businesses\nKnowledge institutes\n\nStudy visit presentations\nCleantechRegion.ppt\nCoopWindpowerNijmegen.pdf\nNijmegenGreenCapital.pptx\nTinyHouseMinistekCleantech.pdf \nPractical Information\nHotels in Arnhem \n\nHotel Harrhuis\nHoliday Inn Express\nRijnhotel\nHotel Arnhem Central\nHotel Molendal \nDesign Hotel\n\n \nTransport from Schipol  \n\nThe train to Arnhem city is under the hall of the airport shops\nFrom the airport the train goes every 30 minutes from 06:58 to 20:58. After 20:58 it goes every 30 minutes with a switch to Utrecht\n\nTransport from Düsseldorf  \n\nFor transport from Düsseldorf please consult the onlytrain website.\n\n  \nRelated Articles\nStudy visit on the Energy transition: you’re invited! \n \n 
URL:https://aer.eu/events/study-visit-gelderland-energy-transition/
CATEGORIES:AER Events
ATTACH;FMTTYPE=image/jpeg:https://aer.eu/wp-content/uploads/2017/08/ashes-sitoula-32544.jpg
END:VEVENT
END:VCALENDAR