BEGIN:VCALENDAR
VERSION:2.0
PRODID:-//Assembly of European Regions - ECPv6.1.3//NONSGML v1.0//EN
CALSCALE:GREGORIAN
METHOD:PUBLISH
X-WR-CALNAME:Assembly of European Regions
X-ORIGINAL-URL:https://aer.eu
X-WR-CALDESC:Events for Assembly of European Regions
REFRESH-INTERVAL;VALUE=DURATION:PT1H
X-Robots-Tag:noindex
X-PUBLISHED-TTL:PT1H
BEGIN:VTIMEZONE
TZID:Europe/Brussels
BEGIN:DAYLIGHT
TZOFFSETFROM:+0100
TZOFFSETTO:+0200
TZNAME:CEST
DTSTART:20250330T010000
END:DAYLIGHT
BEGIN:STANDARD
TZOFFSETFROM:+0200
TZOFFSETTO:+0100
TZNAME:CET
DTSTART:20251026T010000
END:STANDARD
END:VTIMEZONE
BEGIN:VEVENT
DTSTART;VALUE=DATE:20251001
DTEND;VALUE=DATE:20251004
DTSTAMP:20260424T024048
CREATED:20250702T125201Z
LAST-MODIFIED:20250908T080603Z
UID:50858-1759276800-1759535999@aer.eu
SUMMARY:Eurodyssey Forum & 40th Anniversary | Barcelona\, Catalonia | 1-3 October 2025
DESCRIPTION:Celebrating 40 Years of Youth Mobility\nJoin us in Barcelona\, Catalonia from 1 to 3 October 2025 for a very special edition of the Eurodyssey Forum as we celebrate the 40th anniversary of Europe’s longest-running regional youth mobility programme! \nA Milestone Celebration \nSince 1985\, Eurodyssey has empowered thousands of young people through meaningful international traineeship experiences across Europe. This year\, we’re coming together to mark four decades of impact\, connection\, and transformation – with an eye on the future of youth mobility. \n \nThe three-day Forum will offer a dynamic mix of: \n\nPanel discussion\nInteractive workshops\nCultural visits to discover the heart of Catalonia\nAnniversary celebration highlighting the programme’s legacy and success stories\nAs part of the ETI Labs project\, the Forum will host a dedicated focus group session on young graduate traineeship tracks\n\n  \nParticipants\nThe event is open to representatives of Eurodyssey member regions\, current and former trainees\, regional and youth mobility policy-makers\, ETI Labs project partners\, and all those committed to supporting and advancing youth mobility in Europe. \nRegistration are now closed* \n* Registrations closed on 7 September. Please contact Jeanne Demonque (j.demonque@aer.eu) for any questions. \n\nDon’t miss this unique occasion to connect\, reflect\, and shape the next chapter of Eurodyssey.
URL:https://aer.eu/events/eurodyssey-forum-2025/
LOCATION:Barcelona\, Barcelona\, 08034\, Spain
CATEGORIES:AER Eurodyssey Forums,AER Events
ATTACH;FMTTYPE=image/jpeg:https://aer.eu/wp-content/uploads/2025/07/EY-Forum-and-40th-Anniversary-3-scaled.webp
END:VEVENT
BEGIN:VEVENT
DTSTART;TZID=Europe/Brussels:20251014T103000
DTEND;TZID=Europe/Brussels:20251014T120000
DTSTAMP:20260424T024048
CREATED:20250708T161847Z
LAST-MODIFIED:20250904T140913Z
UID:50880-1760437800-1760443200@aer.eu
SUMMARY:REGIONAL TALKS: Breakfast Briefing on Cohesion Policy post-2027 | 14 October 2025
DESCRIPTION:Cohesion Policy is one of the European Union’s most important tools to promote economic\, social\, and territorial cohesion\, supporting regional development and addressing disparities across Europe.The upcoming negotiations on the Multi-Annual Financial Framework (MFF) 2028-2034 will shape the future and effectiveness of Cohesion Policy post-2027.  \nThe Breakfast Briefing of the AER Task Force on Cohesion Policy has the goal to foster dialogue among regions\, EU institutions\, and stakeholders to assess the implementation of the current programming period and shape a robust\, inclusive\, and forward-looking Cohesion Policy for the post-2027 era. \nThe Breakfast Briefing will take place on 14 October 2025\, at the Renewable Energy House (Rue d’Arlon 63\, 1040 Bruxelles). Registrations will open soon. \nThe Breakfast Briefing will be the first AER Regional Talk of 2025\, a Brussels-based event series animated by the goal of fostering dialogue on key issues impacting regional communities and territories.  \nREGISTRATIONS OPEN NOW! \n \n 
URL:https://aer.eu/events/regional-talks-breakfast-briefing-on-cohesion-policy-post-2027-14-october-2025/
LOCATION:AER Brussels Office\, Rue d'Arlon 63\, Brussels\, 1040\, Belgium
CATEGORIES:AER Events
ATTACH;FMTTYPE=image/jpeg:https://aer.eu/wp-content/uploads/2025/07/TF-Cohesion-Policy-visual_october-2025-jpg.webp
END:VEVENT
BEGIN:VEVENT
DTSTART;TZID=Europe/Brussels:20251020T093000
DTEND;TZID=Europe/Brussels:20251020T110000
DTSTAMP:20260424T024049
CREATED:20251009T180604Z
LAST-MODIFIED:20251013T081635Z
UID:51265-1760952600-1760958000@aer.eu
SUMMARY:REGIONAL TALKS | Caring Communities -  Strengthening Families and Futures
DESCRIPTION:When violence strikes\, children are the first to suffer. Based in Odesa\, the Ukrainian Medical Centre for Rehabilitation of Mother and Child has a mission to restore and nurture the mental health of children\, young parents\, and families. \nThis online REGIONAL TALK session\, organised by the AER Working Group on Mental Health\, will explore how the Centre implements advanced international practices to provide free\, high-quality psychological\, mental health\, and rehabilitation services aimed at developing adaptive skills\, enhancing resilience\, and restoring mental and physical well-being. \n \n 
URL:https://aer.eu/events/regional-talks-caring-communities-strengthening-families-and-futures/
CATEGORIES:AER Working Groups,Ukraine
ATTACH;FMTTYPE=image/jpeg:https://aer.eu/wp-content/uploads/2025/10/Study-Visits-WG-Mental-Health-2025-event-jpg.webp
END:VEVENT
END:VCALENDAR