BEGIN:VCALENDAR
VERSION:2.0
PRODID:-//Assembly of European Regions - ECPv6.1.3//NONSGML v1.0//EN
CALSCALE:GREGORIAN
METHOD:PUBLISH
X-ORIGINAL-URL:https://aer.eu
X-WR-CALDESC:Events for Assembly of European Regions
REFRESH-INTERVAL;VALUE=DURATION:PT1H
X-Robots-Tag:noindex
X-PUBLISHED-TTL:PT1H
BEGIN:VTIMEZONE
TZID:Europe/Brussels
BEGIN:DAYLIGHT
TZOFFSETFROM:+0100
TZOFFSETTO:+0200
TZNAME:CEST
DTSTART:20210328T010000
END:DAYLIGHT
BEGIN:STANDARD
TZOFFSETFROM:+0200
TZOFFSETTO:+0100
TZNAME:CET
DTSTART:20211031T010000
END:STANDARD
END:VTIMEZONE
BEGIN:VEVENT
DTSTART;VALUE=DATE:20210127
DTEND;VALUE=DATE:20210129
DTSTAMP:20260424T203026
CREATED:20210118T124644Z
LAST-MODIFIED:20210129T080935Z
UID:35021-1611705600-1611878399@aer.eu
SUMMARY:Enthusiasm in learning and success in times of pandemic
DESCRIPTION:We are pleased to invite you to two webinars on tackling early school leaving by improving information\, support\, and mutual learning\n \nHow to encourage young people and provide them with adequate support so they remain interested in learning in a global context that is particularly challenging? These two events will provide an opportunity to share regional experiences and hear about support initiatives at the EU level. \nThe events are part of the Skillnet webinar series AER is organising\, which provides an opportunity for mutual learning around topics identified by AER members. \nGenerating enthusiasm\, informing about potential\nOne of the challenges in Technical and Vocational Education and Training (TVET) is that it is often associated with negative representations such as the difficulty to follow general education or attend university. Informing about the potential of TVET and its success potential is also instrumental in boosting self-confidence in learners. \nThe first webinar\, which will take place on 27 January 2021 at 10:00 CET\, will offer the opportunity to learn and exchange about regional policies and practices aimed at making young people more aware of the opportunities related to Technical and Vocational Education and Training\, in order to: \n\navoid early school leaving because of the inadequacy of training pathways and the risks associated with the feeling of failure;\nencourage young people to see Technical and Vocational Education and Training as a pathway for success: for the Technical and Vocational Education and Training choice to be a positive choice;\nrecruit talented young people in Technical and Vocational Education and Training.\n\nVocational Training in Times of Lockdown and Pandemic\nIn the context of the pandemic\, the fundamental role of schools and teachers has been challenged. With lockdowns put in place across Europe\, vocational education and training (VET) schools had to convert physical classrooms and work-based learning spaces into digital learning environments overnight. Keeping up the attention\, motivation and good spirit of students became a major focus of teachers\, as global events increased uncertainty especially for young people. \nThe second webinar\, which will take place on 28 January at 10:00 CET\, will focus on Vocational Training in Times of Lockdown and Pandemic.\nThe event will be an opportunity to hear about the Cedefop VET toolkit for tackling early leaving created by the European Centre for the Development of Vocational Training CEDEFOP\, a very current source of support to policymakers\, education\, and training providers. \n\nAgenda\nNew enthusiasm for vocational training and education\nBoosting self-confidence\n 27 January 2021 10:00 CET\n  \n\n10:00 – 10:05 Welcome introduction of the topic & speakers Hrvoje Kovac\, Chair of the AER subcommittee on Youth\, Varazdin (HR)\n10:05 – 10:10 Housekeeping rules\, quick presentation on Skillnet\, Valentina De Vico\, Communication Manager Skillman Team\n10:10 – 10:20  VET & initial training and existing funding and support opportunities Kjerstin Torpmann-Hagen\, Policy Officer\, European Commission DG EMPL\n10:20 – 10:30 Experience from Catalonia\, Miquel Carrión Molina\, Deputy Director Youth Employment and Professional Qualification\, Catalonia (ES)\n10:30 – 10:40 Experience from Alba\, Gabriela Rus\, Policy officer\, Economic and rural development department\, Alba County Council (RO)\n10:40 – 10:55 Panel discussion and Q&A session\n10:55- 11:00 Closing remarks\n\n  \n \n\n\nVocational Training in Times of Lockdown and Pandemic\nPreventing early school leaving\n28 January 2021 10:00 CET\n  \n\n10:00 – 10:05 Welcome introduction of the topic & speakers Birgit Sandu\, EU Project Manager\, Assembly of European Regions\n10:05 – 10:10 Skillman introduction and Skillnet project presentation Valentina De Vico\, Communication Manager\, Skillman Team\n10:10 – 10:30 Presentation of Cedefop VET toolkit for tackling early leaving Irene Psifidou\, Expert\, Department for Learning and Employability CEDEFOP\n10:30 – 10:40 Experience from Catalonia Borja Castellet\, Project Manager El Llindar\n10:40 – 10:55 Panel discussion and Q&A session\n10:55- 11:00 Closing remarks\n\n\n  \nHow to join the webinars\nClick on the above “register here” buttons (one registration per event) \nor go to the Skillnet events page and chose: \n\nE 418 – Mutual learning on early school leaving: Generating new enthusiasm for vocational training and boosting self-confidence 27/01/2021 10:00 CET\nE 911 – Vocational Training in Times of Lockdown and Pandemic: preventing early school leaving 28/01/2021 10:00 CET\n\n  \n  \n\n\n\nWatch back\nNew enthusiasm for vocational training and education – Boosting self-confidence \nVocational Training in Times of Lockdown and Pandemic – Preventing early school leaving \n\n\n\nHandouts\nVET & initial training and existing funding and support opportunities\nExperience from Catalonia\nExperience from Alba\nPresentation of Cedefop VET toolkit for tackling early leaving\nExperience from El Llindar\, new chances school\, Catalonia\n\n\nContacts\n\nj.pacevicius@aer.eu \nb.sandu@aer.eu\n\n\n\nThis webinar is organised as part of the SKILLNET series of webinars on EU funding opportunities. SKILLNET is a project funded by the Erasmus+ Programme of the European Commission aiming to strengthen the Vocational Education and Training (VET) system’s role and capacity to design high-quality VET programmes tailored to current societal needs through enhanced transnational and cross-sectoral partnerships. \n  \n  \n \n \n 
URL:https://aer.eu/events/learning-in-times-of-pandemic/
LOCATION:Online
CATEGORIES:AER Events
ATTACH;FMTTYPE=image/jpeg:https://aer.eu/wp-content/uploads/2021/01/Templates-for-paired-Skillnet-Webinars.jpg
END:VEVENT
END:VCALENDAR