BEGIN:VCALENDAR
VERSION:2.0
PRODID:-//Assembly of European Regions - ECPv6.1.3//NONSGML v1.0//EN
CALSCALE:GREGORIAN
METHOD:PUBLISH
X-ORIGINAL-URL:https://aer.eu
X-WR-CALDESC:Events for Assembly of European Regions
REFRESH-INTERVAL;VALUE=DURATION:PT1H
X-Robots-Tag:noindex
X-PUBLISHED-TTL:PT1H
BEGIN:VTIMEZONE
TZID:Europe/Brussels
BEGIN:DAYLIGHT
TZOFFSETFROM:+0100
TZOFFSETTO:+0200
TZNAME:CEST
DTSTART:20200329T010000
END:DAYLIGHT
BEGIN:STANDARD
TZOFFSETFROM:+0200
TZOFFSETTO:+0100
TZNAME:CET
DTSTART:20201025T010000
END:STANDARD
END:VTIMEZONE
BEGIN:VEVENT
DTSTART;TZID=Europe/Brussels:20201210T153000
DTEND;TZID=Europe/Brussels:20201210T163000
DTSTAMP:20260424T174255
CREATED:20201124T123154Z
LAST-MODIFIED:20201127T103716Z
UID:34601-1607614200-1607617800@aer.eu
SUMMARY:Circular Economy: Opportunities and Needs in the Labour Market
DESCRIPTION:We are pleased to invite you to the webinar ‘Circular Economy: Opportunities and Needs in the Labour Market‘ aimed to share information about how Vocational and Education Training (VET) programmes can support the transition towards a circular economy and exploits its potential for employment and social inclusion.   \nThe circular economy is among the core policy priorities of regional\, national\, and international policy-makers being a major tool to counter negative environmental trends while offering new opportunities for employment and social inclusion. The core pillars of the circular economy – reuse\, repair\, remanufactured\, and recycling – imply a more labour intensive process than the linear economy where resources are wasted or lost. This results in an unparalleled potential for the promotion of employment\, with the expected creation of approximately 700 000 new jobs linked to the circular economy (the so-called circular jobs) by 2030 in the EU (Cambridge Econometrics\, Trinomics and ICF\, 2018).   \nAt the same time\, the transition is a broad process involving an overarching redefinition of the economy as a whole\, as well as requiring the readiness of all economic and sectors in order to be fully realised. To this extent\, this year\, the European Union has adopted a new Circular Economy Action Plan for the achievement of a “cleaner and more competitive Europe in co-creation with economic actors\, consumers\, citizens\, and civil society organisations”. As suggested in the document\, the labour market plays a fundamental role in this process in that if able to anticipate and prepare for the transition\, it can accelerate and maximise the potential of a circular economy. Hence\, both the realisation of a circular economy and the effective uptake of its employment opportunities strongly depend on the readiness of the labour market.   \nAbout the webinar\nThe event will be held within the sixth edition of the Skillman International Forum focused on ‘Redefining the Future of Learning in the Advanced Manufacturing Sector’. Additionally\, it is part of the Skillnet series of 18 webinars designed to bring together experts in different fields linked to vocational education and training (VET) with the purpose of establishing relevant groups of collaboration and partnerships for future EU project proposals.   \nIt will offer regions and stakeholders engaged with the circular economy the opportunity to learn and exchange about how regions\, companies\, and VET organisations can support the transition towards a circular economy and exploit its employment potential by fostering the needed skills in the workforce.    \nIn this context\, the webinar aims to:  \n\nProvide information about what are the skills needed in a circular economy with particular regard to the advanced manufacturing sector.\nOffer the possibility to learn from\, and exchange with\, experts about how VET can support the circular economy transition by developing new curricula tailored to skill and upskill the ‘circular workforce‘.\nCreate a space for debate and network for experts in the field in order to establish relevant partnerships that can be applied within future EU funding opportunities.\n\nHow to join the webinar?\nOnly one registration is given for all the events within the Skillman International Forum (SIF). Hence\, to join the event\, you have to register to Skillman International Forum and participants will be re-directed from the plenary (main room) to the various sessions in the course the event through break-out rooms.   \nIf you cannot attend the whole SIF\, you may access the event at least 15 minutes before the beginning of the webinar “Circular Economy: Opportunities and Needs in the Labour Market” (starting time 15:30) so that you can be re-directed to the session. \n \n\n\n \n\nREGISTER HERE\n\n\n\n \n\nThis webinar is organised in the context of SKILLNET\, an EU-funded project which aims to strengthen the Vocational Education and Training (VET) system’s role and capacity to design high-quality VET programmes tailored to current societal needs through enhanced transnational and cross-sectoral partnerships.
URL:https://aer.eu/events/circular-economy-opportunities-and-needs-in-the-labour-market/
LOCATION:Online
CATEGORIES:AER Events
ATTACH;FMTTYPE=image/jpeg:https://aer.eu/wp-content/uploads/2020/11/3.jpg
END:VEVENT
BEGIN:VEVENT
DTSTART;TZID=Europe/Brussels:20201211T111500
DTEND;TZID=Europe/Brussels:20201211T121500
DTSTAMP:20260424T174255
CREATED:20201124T124308Z
LAST-MODIFIED:20201127T103645Z
UID:34609-1607685300-1607688900@aer.eu
SUMMARY:New mobility services: Anticipating Skills and Job Roles
DESCRIPTION:We are pleased to invite you to the webinar “New mobility services: Anticipating skills and job roles” that aims to bridge the gap between the skills and job roles needed for the new mobility services sector and the workforce. \nNew mobility services are offering solutions to today’s growing challenges in terms of congestion\, lack of space\, growing population\, air quality\, noise\, social inclusion\, health\, economic development\, and the creation of jobs. These solutions require skilled and adaptable individuals who are able to drive and support change. However\, there is a growing skills shortage in the mobility services sector which could seriously delay the development of the services and hurt customers’ expectations. Thus it is required to look into new skills for the future workforce but also opportunities realized through reskilling the workforce.  \nAbout the webinar\nThe event will be held within the sixth edition of the Skillman International Forum focused on ‘Redefining the Future of Learning in the Advanced Manufacturing Sector’. Additionally\, it is part of the Skillnet series of 18 webinars designed to bring together experts in different fields linked to vocational education and training (VET) with the purpose of establishing relevant groups of collaboration and partnerships for future EU project proposals. \nThe webinar will highlight regional examples on the integration of new mobility services and the development of skills and job roles needed in the sector. In this context\, it aims to: \n\nHighlight the relevance of EU funding opportunities and European cooperation in bridging the skills’ gap in the new mobility services sector\nShare good practices about how regions and local companies can foster the relevant skills in the population\nBoost a network of cross-sectoral experts interested in the new mobility services that can be applied for future EU funding opportunities.\n\nHow to join the webinar?\nOnly one registration is given for all the events within the Skillman International Forum (SIF). Hence\, to join the event\, you have to register to Skillman International Forum and participants will be re-directed from the plenary (main room) to the various sessions in the course the event through break-out rooms. \nIf you cannot attend the whole SIF\, you may access the event at least 15 minutes before the beginning of the webinar “Circular Economy: Opportunities and Needs in the Labour Market” (starting time 15:30) so that you can be re-directed to the session. \n  \n\nREGISTER HERE\n\n  \n\nThis webinar is organised in the context of SKILLNET\, an EU-funded project which aims to strengthen the Vocational Education and Training (VET) system’s role and capacity to design high-quality VET programmes tailored to current societal needs through enhanced transnational and cross-sectoral partnerships.
URL:https://aer.eu/events/new-mobility-services-anticipating-skills-and-job-roles/
LOCATION:Online
CATEGORIES:AER Events
ATTACH;FMTTYPE=image/jpeg:https://aer.eu/wp-content/uploads/2020/11/2.jpg
END:VEVENT
BEGIN:VEVENT
DTSTART;TZID=Europe/Brussels:20201216T160000
DTEND;TZID=Europe/Brussels:20201216T173000
DTSTAMP:20260424T174255
CREATED:20201116T100834Z
LAST-MODIFIED:20210202T132458Z
UID:34408-1608134400-1608139800@aer.eu
SUMMARY:Webinar: EU Green Deal - Farm to Fork - The Commitment of Regions to Sustainable Food Policy in the EU
DESCRIPTION:Date: 16 December \nTime: 16:00-17:30 CEST \nRegistration: Here \nFollowing the success of our first European Green Deal webinar\, which covered challenges and opportunities for regions in the time of Covid-19\, the AER is delighted to bring you the second in our series: Farm to Fork – The Commitment of Regions to Sustainable Food Policy in the EU\, in collaboration with the Advisory Council for Sustainable Development of the Catalan Government (CADS). \nDuring this online session\, it will be discussed the key role that the new comprehensive approach to food sustainability has to play in the European Union and the commitment from European regions towards developing and implementing food policies that contribute to a more resilient and sustainable food system.  \nThis panel debate will bring together regional authorities as well as EU and global representatives and will be followed by a more open questions and answers session to provide further food for thought. \n                                                         See the overview detailed programme here \n\n\n\n16:00-16:10\nWelcome & Introduction\n\n\n16:10-16:30\nExperts Panel –  \nFarm to Fork: Achieving Food Sustainability in the European Union\n\n\n16:30-16:50\nGood practice examples–  \nEuropean Regions as frontrunners towards sustainable food policies\n\n\n16:50-17:30\nQuestions & Answers with regions \nRegional representatives from the panel and among the audience will have the opportunity to address their questions to the experts.
URL:https://aer.eu/events/webinar-eu-green-deal-farm-to-fork-the-commitment-of-regions-to-sustainable-food-policy-in-the-eu/
LOCATION:Online
CATEGORIES:AER Events
ATTACH;FMTTYPE=image/jpeg:https://aer.eu/wp-content/uploads/2020/11/Farm2Fork-AER_vf.jpg
END:VEVENT
END:VCALENDAR