BEGIN:VCALENDAR
VERSION:2.0
PRODID:-//Assembly of European Regions - ECPv6.1.3//NONSGML v1.0//EN
CALSCALE:GREGORIAN
METHOD:PUBLISH
X-ORIGINAL-URL:https://aer.eu
X-WR-CALDESC:Events for Assembly of European Regions
REFRESH-INTERVAL;VALUE=DURATION:PT1H
X-Robots-Tag:noindex
X-PUBLISHED-TTL:PT1H
BEGIN:VTIMEZONE
TZID:Europe/Paris
BEGIN:DAYLIGHT
TZOFFSETFROM:+0100
TZOFFSETTO:+0200
TZNAME:CEST
DTSTART:20190331T010000
END:DAYLIGHT
BEGIN:STANDARD
TZOFFSETFROM:+0200
TZOFFSETTO:+0100
TZNAME:CET
DTSTART:20191027T010000
END:STANDARD
END:VTIMEZONE
BEGIN:VEVENT
DTSTART;TZID=Europe/Paris:20190701T173000
DTEND;TZID=Europe/Paris:20190705T233000
DTSTAMP:20260423T161018
CREATED:20181217T102309Z
LAST-MODIFIED:20190717T115851Z
UID:25486-1562002200-1562369400@aer.eu
SUMMARY:2019 AER Summer Academy - Novi Sad\, Vojvodina (RS)
DESCRIPTION:On the occasion of its hosting of the 2019 European Youth Capital\, the AER Summer Academy will take place in Novi Sad\, Vojvodina (RS) from 1-5 July 2019. This year’s theme is “Youth is future\, youth is Europe” in the wake of the 2019 Elections to the European Parliament. \nThe Future of Europe is YOUth! \nWatch the promo video below or on our Facebook page \n \n  \n  \nREGISTRATIONS CLOSED!\n \n \nLocal and regional authorities play a unique articulatory role between citizens and EU institutions. In the context of ongoing discussions on the Future of Europe\, regions’ voices are of paramount importance not only to pave the way forward for the EU but also to ensure that citizens are included in the (re)construction process of a more sustainable\, social\, prosperous and democratic Europe. The only direction to go in is one in which young people are included in EU decision making and at the centre of its policies. \nHence\, the participating regions at the 2019 Summer Academy will show off\, by exchanging innovative ideas and good practices in various fields\, the potential of young people to bring about a social transformation and rethink the way Europe can meet the challenges of the future. \nThe 2019 Summer Academy will then provide a hub for mutual learning on various topics of great relevance for young people –in line with the European Youth Event Report 2018 – Speak up Europe!: \n\nYouth is democratic participation and European citizenship.\nYouth is diversity and equal opportunities for all.\nYouth is social entrepreneurship and sharing economy.\nYouth is a driving force for green development.\n\nLast but not least\, the 2019 Summer Academy programme is offering participants an exciting opportunity to visit on 4 July one of the top European and world music festivals: EXIT music festival! \nGeneral Programme\n \n\n\nSUMMER ACADEMY 2019: Jönköping’s approach to youth participation\n"How to encourage active participation among first-time voters at the local level in the European election?" Coinciding with the 2019 ...Read More\n\nSUMMER ACADEMY 2019: Brussels-Capital Region and its commitment to youth entrepreneurship\nWritten by Juan Antonio Gallardo Roca\, Brussels International. “How to make youth entrepreneurship smart?” Coinciding with the 2019 European Youth ...Read More\n\nSUMMER ACADEMY 2019: Østfold’s Solutions to Youth Entrepreneurship\nCoinciding with the 2019 European Youth Capital\, the region of Vojvodina (RS) will host the AER Summer Academy 2019 in ...Read More\n\nSUMMER ACADEMY 2019: Zürich’s Youth for Debate!\nCoinciding with the 2019 European Youth Capital\, the region of Vojvodina (RS) will host the AER Summer Academy 2019 in ...Read More\n\nSUMMER ACADEMY 2019: AMiD workshop on Migrants with Disabilities\n"Opportunities for all abilities" The AMiD-Access to services for Migrants with Disabilities project is landing in Novi Sad\, Vojvodina (RS) ...Read More\n\nSUMMER ACADEMY 2019:      become a YRN entrepreneur for a day!\nCoinciding with the 2019 European Youth Capital\, the region of Vojvodina (RS) will host the AER Summer Academy 2019 in ...Read More\n\nLooking back at the 2019 AER Summer Academy in Vojvodina!\nThe Autonomous Province of Vojvodina (RS) hosted the 2019 AER Summer Academy\, engaging almost 100 participants from all over Europe ...Read More\n\nDiscussing the Future of European Youths at the 2019 Summer Academy\nNow that the 2019 Summer Academy is over\, it is very fair to say that this year's edition was a ...Read More			\n			\n  \nPlenary Presentations\n\nYouth is Social Entrepreneurship and Sharing Economy –Vladimir Nikic\, Business Incubator (RS)\nAP Vojvodina’s Report – Tamara Glišić-Krivošija (AP Vojvodina\, RS)\n\nWorkshop Presentations\n\nHow to encourage active participation among first-time voters at the local level in the European election? – County of Jönköping (SE)\nYouth for Debate – Canton of Zürich (CH)\nParticipatory budgeting for youth inclusion\, AP Vojvodina (RS)\nOpportunities for all abilities – AMiD-Access to services for Migrants with Disabilities project \nYouth at the forefront of green development\, Maramureș County Council (RO)\nHow to make youth entrepreneurship Smart? – Brussels-Capital Region (BE)\nRegional Solutions to Global Challenges in Youth Entrepreneurship – Østfold County Council (NO)\nE-Kampen: Become an entrepreneur for a day! – AER Youth Regional Network (YRN)\n\nPictures\nHere you can find all the pictures from the AER 2019 Summer Academy! \nStay in touch!\nWe know that during the Summer Academy you met a lot of awesome people\, and to help you stay in contact with them we have created this Facebook group for all the participants.
URL:https://aer.eu/events/2019-aer-summer-academy-in-novi-sad-vojvodina/
LOCATION:Assembly of AP Vojvodina\, Vladike Platona bb\, Novi Sad\, Vojvodina\, 21000\, Serbia
CATEGORIES:AER Summer Academies
ATTACH;FMTTYPE=image/png:https://aer.eu/wp-content/uploads/2018/12/Summer-Academy-2.png
END:VEVENT
BEGIN:VEVENT
DTSTART;TZID=Europe/Paris:20190709T180000
DTEND;TZID=Europe/Paris:20190709T210000
DTSTAMP:20260423T161018
CREATED:20190626T074240Z
LAST-MODIFIED:20190626T081108Z
UID:28258-1562695200-1562706000@aer.eu
SUMMARY:The Future of Rural Areas in Europe - Brussels (BE)
DESCRIPTION:  \nOn 9 July\, the Landtag of the Free State of Saxony and the Assembly of European Regions will be hosting an event titled “The Future of Rural Areas in Europe”. AER President Magnus Berntsson will be giving a keynote speech during this event\, along with Bernd Lange\, District Administrator of Gorlitz and CoR Member. Following the keynote speeches\, there will be a panel discussion moderated by Mr Michael Schmitz with MEPs Mrs Constanze Krehl and Dr Peter Jahr\, Mag. Jan Korytar from Liberec City Council\, Mr Paul van der Sluys from the Flemish Land Agency and Mag. Daniela Fraiß\, Director of the Austrian Association of Municipalities in Brussels. \nREGISTRATION\nTo register\, please send an email directly to veranstaltung@bxl.sachsen.de \nEVENT DETAILS\nThe event will be taking place at the Saxony Liaison Office in Brussels. \nAddress: Avenue d’Auderghem 67 B-1040 Brussels \nDate: July 9\, 2019 \nTime: 18:00 \nBig cities and rural areas both contribute in enabling dynamic development\, and with increasing digitalization\, and work has become independent irregardless of location in many areas. Rural areas are increasingly being used as a location for businesses and as a center of life. \nHowever\, the eligibility of rural areas and demographic problems repeatedly show that the potential of rural areas is not fully recognized or used appropriately. It is therefore a concern of this event to motivate decision-makers at European level to work more for rural areas. Comparable challenges and best practice examples will be discussed from different European regions to show that rural areas offer many opportunities for individual development\, economic success\, intact nature and prosperity. \nGENERAL PROGRAMME\nprogramm_en
URL:https://aer.eu/events/the-future-of-rural-areas-in-europe-brussels-be/
LOCATION:Saxony Liaison Office\, Avenue d'Auderghem 67\, Etterbeek\, 1040\, Belgium
CATEGORIES:AER Events,Partner Events
END:VEVENT
END:VCALENDAR