BEGIN:VCALENDAR
VERSION:2.0
PRODID:-//Assembly of European Regions - ECPv6.1.3//NONSGML v1.0//EN
CALSCALE:GREGORIAN
METHOD:PUBLISH
X-ORIGINAL-URL:https://aer.eu
X-WR-CALDESC:Events for Assembly of European Regions
REFRESH-INTERVAL;VALUE=DURATION:PT1H
X-Robots-Tag:noindex
X-PUBLISHED-TTL:PT1H
BEGIN:VTIMEZONE
TZID:Europe/Paris
BEGIN:DAYLIGHT
TZOFFSETFROM:+0100
TZOFFSETTO:+0200
TZNAME:CEST
DTSTART:20180325T010000
END:DAYLIGHT
BEGIN:STANDARD
TZOFFSETFROM:+0200
TZOFFSETTO:+0100
TZNAME:CET
DTSTART:20181028T010000
END:STANDARD
END:VTIMEZONE
BEGIN:VEVENT
DTSTART;TZID=Europe/Paris:20180503T130000
DTEND;TZID=Europe/Paris:20180503T193000
DTSTAMP:20260424T203037
CREATED:20180418T070326Z
LAST-MODIFIED:20180418T070812Z
UID:22525-1525352400-1525375800@aer.eu
SUMMARY:Silver Economy Awards Ceremony
DESCRIPTION:The First European Silver Economy Awards Ceremony will take place on 3rd May 2018 (14:00-19:30) in Brussels\, hosted by the Committee of the Regions. \nThe Awards Ceremony will be the opportunity to learn more about the nine finalists who will present their solutions and to award the three winning applications from the categories: public authorities\, non-for profit organisations and for profit stakeholders. \nIt will be a perfect event to enhance networking among the different actors of the Silver Economy at EU level and to provide matchmaking opportunities. \nPowered by the EU-funded SEED project\, the European Silver Economy Awards aim to celebrate innovative ICT related products or services\, in all sectors that help to improve the quality of life of senior citizens. It is essential to raise awareness of and strengthen the European Silver Economy. \nYou can download the draft agenda here \nFind out more on the Silver Economy Awards Website. \n 
URL:https://aer.eu/events/silver-economy-awards-ceremony/
LOCATION:Committee of the Regions\, Rue Belliard\, Brussels\, Belgium
CATEGORIES:AER Events
ATTACH;FMTTYPE=image/png:https://aer.eu/wp-content/uploads/2018/04/Twitter-Banner-2-e1524038471249.png
END:VEVENT
BEGIN:VEVENT
DTSTART;VALUE=DATE:20180523
DTEND;VALUE=DATE:20180525
DTSTAMP:20260424T203037
CREATED:20171206T154559Z
LAST-MODIFIED:20180524T133518Z
UID:21017-1527033600-1527206399@aer.eu
SUMMARY:AER Bureau Meeting & General Assembly
DESCRIPTION:The 2018 Spring Bureau Meeting and General Assembly of the Assembly of European Regions took place in Oppland (NO)\, from 23 to 24 May 2018. \nWhat happened?\nHighlights from the AER General Assembly and Bureau Meeting! \n \nDetailed agenda\nDetailed Agenda of the General Assembly \nDetailed Agenda of the Bureau Meeting \nCall for nomination\nThe minutes of last year’s General Assembly in Lower Austria (AT) can be found here. \nDirect Links \n  \n\nParticipants list\nPractical Information\nInvitation Letter\nDraft Programme\nWorking Documents\nDetailed Agenda of the General Assembly\nDetailed Agenda of the Bureau Meeting
URL:https://aer.eu/events/aer-bureau-meeting-ga/
LOCATION:Oppland\, Norway
CATEGORIES:AER Bureau plenaries,AER General Assemblies
ATTACH;FMTTYPE=image/png:https://aer.eu/wp-content/uploads/2017/12/Event-Posters2-1.png
END:VEVENT
END:VCALENDAR