BEGIN:VCALENDAR
VERSION:2.0
PRODID:-//Assembly of European Regions - ECPv6.1.3//NONSGML v1.0//EN
CALSCALE:GREGORIAN
METHOD:PUBLISH
X-WR-CALNAME:Assembly of European Regions
X-ORIGINAL-URL:https://aer.eu
X-WR-CALDESC:Events for Assembly of European Regions
REFRESH-INTERVAL;VALUE=DURATION:PT1H
X-Robots-Tag:noindex
X-PUBLISHED-TTL:PT1H
BEGIN:VTIMEZONE
TZID:Europe/Brussels
BEGIN:DAYLIGHT
TZOFFSETFROM:+0100
TZOFFSETTO:+0200
TZNAME:CEST
DTSTART:20260329T010000
END:DAYLIGHT
BEGIN:STANDARD
TZOFFSETFROM:+0200
TZOFFSETTO:+0100
TZNAME:CET
DTSTART:20261025T010000
END:STANDARD
END:VTIMEZONE
BEGIN:VEVENT
DTSTART;VALUE=DATE:20260423
DTEND;VALUE=DATE:20260425
DTSTAMP:20260423T012948
CREATED:20260205T120058Z
LAST-MODIFIED:20260205T120058Z
UID:51637-1776902400-1777075199@aer.eu
SUMMARY:Study Visit - Sustainable Food Production | Fribourg\, Switzerland
DESCRIPTION:The Task Force on Agriculture & Rural Development is organising a study visit hosted by the Canton of Fribourg in Switzerland\, dedicated to exploring the region’s gastronomic delicacies\, sustainable food production\, and innovation in agriculture. \nThe visit will take place from Thursday\, 23 April until Friday\, 24 April 2026\, offering participants an opportunity to discover Fribourg’s excellence in sustainable agriculture\, applied research\, and world-renowned food traditions. \nDraft Programme highlights: \n\nAgriCo Campus – Switzerland’s leading hub for food and biomass innovation.\nLocal Farm Visit – Insights into sustainable agricultural practices.\nGruyère Cheese – Explore the origins of Gruyère cheese.\nGrangeneuve Agricultural School – Training and advisory excellence in farm management and agrotechnology.\nAgroscope Research Centre – Pioneering applied research for sustainable and competitive food systems.\n\n \n 
URL:https://aer.eu/events/study-visit-sustainable-food-production-fribourg-switzerland/
LOCATION:Fribourg\, Canton of Fribourg\, Switzerland
ATTACH;FMTTYPE=image/jpeg:https://aer.eu/wp-content/uploads/2026/02/Visual-Study-Visit-Fribourg-1-scaled.webp
ORGANIZER;CN="AER%20Task%20Force%20on%20Agriculture%20%26%20Rural%20Development":MAILTO:g.guari@aer.eu
END:VEVENT
END:VCALENDAR