BEGIN:VCALENDAR
VERSION:2.0
PRODID:-//Assembly of European Regions - ECPv6.1.3//NONSGML v1.0//EN
CALSCALE:GREGORIAN
METHOD:PUBLISH
X-WR-CALNAME:Assembly of European Regions
X-ORIGINAL-URL:https://aer.eu
X-WR-CALDESC:Events for Assembly of European Regions
REFRESH-INTERVAL;VALUE=DURATION:PT1H
X-Robots-Tag:noindex
X-PUBLISHED-TTL:PT1H
BEGIN:VTIMEZONE
TZID:Europe/Brussels
BEGIN:DAYLIGHT
TZOFFSETFROM:+0100
TZOFFSETTO:+0200
TZNAME:CEST
DTSTART:20250330T010000
END:DAYLIGHT
BEGIN:STANDARD
TZOFFSETFROM:+0200
TZOFFSETTO:+0100
TZNAME:CET
DTSTART:20251026T010000
END:STANDARD
END:VTIMEZONE
BEGIN:VEVENT
DTSTART;VALUE=DATE:20251001
DTEND;VALUE=DATE:20251004
DTSTAMP:20260423T103906
CREATED:20250702T125201Z
LAST-MODIFIED:20250908T080603Z
UID:50858-1759276800-1759535999@aer.eu
SUMMARY:Eurodyssey Forum & 40th Anniversary | Barcelona\, Catalonia | 1-3 October 2025
DESCRIPTION:Celebrating 40 Years of Youth Mobility\nJoin us in Barcelona\, Catalonia from 1 to 3 October 2025 for a very special edition of the Eurodyssey Forum as we celebrate the 40th anniversary of Europe’s longest-running regional youth mobility programme! \nA Milestone Celebration \nSince 1985\, Eurodyssey has empowered thousands of young people through meaningful international traineeship experiences across Europe. This year\, we’re coming together to mark four decades of impact\, connection\, and transformation – with an eye on the future of youth mobility. \n \nThe three-day Forum will offer a dynamic mix of: \n\nPanel discussion\nInteractive workshops\nCultural visits to discover the heart of Catalonia\nAnniversary celebration highlighting the programme’s legacy and success stories\nAs part of the ETI Labs project\, the Forum will host a dedicated focus group session on young graduate traineeship tracks\n\n  \nParticipants\nThe event is open to representatives of Eurodyssey member regions\, current and former trainees\, regional and youth mobility policy-makers\, ETI Labs project partners\, and all those committed to supporting and advancing youth mobility in Europe. \nRegistration are now closed* \n* Registrations closed on 7 September. Please contact Jeanne Demonque (j.demonque@aer.eu) for any questions. \n\nDon’t miss this unique occasion to connect\, reflect\, and shape the next chapter of Eurodyssey.
URL:https://aer.eu/events/eurodyssey-forum-2025/
LOCATION:Barcelona\, Barcelona\, 08034\, Spain
CATEGORIES:AER Eurodyssey Forums,AER Events
ATTACH;FMTTYPE=image/jpeg:https://aer.eu/wp-content/uploads/2025/07/EY-Forum-and-40th-Anniversary-3-scaled.webp
END:VEVENT
END:VCALENDAR