BEGIN:VCALENDAR
VERSION:2.0
PRODID:-//Assembly of European Regions - ECPv6.1.3//NONSGML v1.0//EN
CALSCALE:GREGORIAN
METHOD:PUBLISH
X-WR-CALNAME:Assembly of European Regions
X-ORIGINAL-URL:https://aer.eu
X-WR-CALDESC:Events for Assembly of European Regions
REFRESH-INTERVAL;VALUE=DURATION:PT1H
X-Robots-Tag:noindex
X-PUBLISHED-TTL:PT1H
BEGIN:VTIMEZONE
TZID:Europe/Brussels
BEGIN:DAYLIGHT
TZOFFSETFROM:+0100
TZOFFSETTO:+0200
TZNAME:CEST
DTSTART:20250330T010000
END:DAYLIGHT
BEGIN:STANDARD
TZOFFSETFROM:+0200
TZOFFSETTO:+0100
TZNAME:CET
DTSTART:20251026T010000
END:STANDARD
END:VTIMEZONE
BEGIN:VEVENT
DTSTART;TZID=Europe/Brussels:20250507T090000
DTEND;TZID=Europe/Brussels:20250507T110000
DTSTAMP:20260423T204051
CREATED:20250331T122925Z
LAST-MODIFIED:20250505T124648Z
UID:50332-1746608400-1746615600@aer.eu
SUMMARY:Online Study Visit | Humanizing Psychiatric care – Seeing the Person\, Not the Illness
DESCRIPTION:On May 7\, 2025\, from 09:00 to 11:00\, the AER Working Group on Mental Health is glad to invite you to an online study visit to Adult Psychiatry Department in Karlstad\, Värmland Region\, Sweden\, or ‘the healing house‘. \nAbout the ‘Healing House’\nThe name of ‘healing house’ reflects Region Värmland’s approach to psychiatric care. Its professionals are committed to continuous training for treatment and safety\, to make sure to always see the person behind the illness\, not just the illness itself. As a result\, the adult psychiatric care in Värmlands is one of the psychiatric wards with the lowest number of coercive measures on patients. In terms of services to the public\, the ward consists of psychiatric outpatient clinics and psychiatric inpatient care. The inpatient care includes a psychiatric emergency department and four acute care wards\, each specializing in different areas such as mood disorders and psychotic disorders.  The region in Värmland also has a forensic psychiatric ward within the region. \nThe Region Värmland is eager to welcome you to this digital study visit\, where we will showcase the adult psychiatry services and provide insights into the care process for patients in psychiatric inpatient care in Karlstad.
URL:https://aer.eu/events/online-study-visit-humanizing-psychiatric-care-seeing-the-person-not-the-illness/
CATEGORIES:AER Working Groups
ATTACH;FMTTYPE=image/jpeg:https://aer.eu/wp-content/uploads/2025/03/Webinar-WG-Mental-Health_May-2025-new-jpg.webp
END:VEVENT
END:VCALENDAR