BEGIN:VCALENDAR
VERSION:2.0
PRODID:-//Assembly of European Regions - ECPv6.1.3//NONSGML v1.0//EN
CALSCALE:GREGORIAN
METHOD:PUBLISH
X-WR-CALNAME:Assembly of European Regions
X-ORIGINAL-URL:https://aer.eu
X-WR-CALDESC:Events for Assembly of European Regions
REFRESH-INTERVAL;VALUE=DURATION:PT1H
X-Robots-Tag:noindex
X-PUBLISHED-TTL:PT1H
BEGIN:VTIMEZONE
TZID:Europe/Brussels
BEGIN:DAYLIGHT
TZOFFSETFROM:+0100
TZOFFSETTO:+0200
TZNAME:CEST
DTSTART:20240331T010000
END:DAYLIGHT
BEGIN:STANDARD
TZOFFSETFROM:+0200
TZOFFSETTO:+0100
TZNAME:CET
DTSTART:20241027T010000
END:STANDARD
END:VTIMEZONE
BEGIN:VEVENT
DTSTART;TZID=Europe/Brussels:20241120T080000
DTEND;TZID=Europe/Brussels:20241206T170000
DTSTAMP:20260424T071359
CREATED:20241003T133505Z
LAST-MODIFIED:20241004T132757Z
UID:49183-1732089600-1733504400@aer.eu
SUMMARY:[REGISTRATIONS ARE OPEN] Regional Business Forum 2024\, Novi Sad\, Vojvodina\, Serbia
DESCRIPTION:It is our pleasure to invite you to the VII Regional Business Forum (RBF)\, taking place as a hybrid event. You are welcome to join online or in person in Novi Sad\, Vojvodina\, Serbia\, from November 20 to December 6. \nThe Regional Business Forum is an annual international forum to exchange ideas on support for SMEs\, promote business and commerce\, incentive the possibility to collaborate and share best practices between regions. \nThe RBF offers additional support to companies in finding international partners\, giving participants the chance to have in-person B2B meetings on November 20\, and online meetings when registered via the Forum platform from November 21 to December 6. \nThe emphasis at this year’s forum will be on the application of artificial intelligence in the following areas: \n\nAgricultural and food industry\,\nMetal processing industry\,\nInformation and communication technologies.\n\nFor more information\, visit https://www.rbf.vojvodina.gov.rs. For any enquiries\, email rbf@vojvodina.gov.rs\, or call +381 21 487 4431.
URL:https://aer.eu/events/registrations-are-open-regional-business-forum-2024-novi-sad-vojvodina-serbia/
LOCATION:NOVI SAD\, Serbia
ATTACH;FMTTYPE=image/jpeg:https://aer.eu/wp-content/uploads/2024/10/ENG-16-9-scaled.webp
END:VEVENT
END:VCALENDAR