BEGIN:VCALENDAR
VERSION:2.0
PRODID:-//Assembly of European Regions - ECPv6.1.3//NONSGML v1.0//EN
CALSCALE:GREGORIAN
METHOD:PUBLISH
X-WR-CALNAME:Assembly of European Regions
X-ORIGINAL-URL:https://aer.eu
X-WR-CALDESC:Events for Assembly of European Regions
REFRESH-INTERVAL;VALUE=DURATION:PT1H
X-Robots-Tag:noindex
X-PUBLISHED-TTL:PT1H
BEGIN:VTIMEZONE
TZID:Europe/Brussels
BEGIN:DAYLIGHT
TZOFFSETFROM:+0100
TZOFFSETTO:+0200
TZNAME:CEST
DTSTART:20240331T010000
END:DAYLIGHT
BEGIN:STANDARD
TZOFFSETFROM:+0200
TZOFFSETTO:+0100
TZNAME:CET
DTSTART:20241027T010000
END:STANDARD
END:VTIMEZONE
BEGIN:VEVENT
DTSTART;TZID=Europe/Brussels:20241005T120000
DTEND;TZID=Europe/Brussels:20241005T140000
DTSTAMP:20260424T233518
CREATED:20241001T122713Z
LAST-MODIFIED:20241001T124835Z
UID:49135-1728129600-1728136800@aer.eu
SUMMARY:[Register!] YRN workshop - Sustainable Pathways: Youth-led Foresight for Territorial development
DESCRIPTION:On the 5th of October\, at 12:00 pm CET (Tirana time)\, the Youth Regional Network (YRN) invites you to join an inspiring two-hour workshop on the theme: “Sustainable Pathways: Youth-led Foresight for Territorial development”. The workshop is organised by the YRN Committee on Green and Sustainable Europe\, in cooperation with two NGOs: RESU (Reinforce Sustainability) and NGA (Next Generation Advocates). \n \nRESU (Reinforce Sustainability) is an NGO dedicated to safeguarding the environment. It offers expert guidance and support to individuals and communities. Their mission is to empower people with the knowledge and tools they need to adopt sustainable practices and contribute to a sustainable community. \nNGA (Next Generation Advocates) is a youth-focused NGO dedicated to equip them with the knowledge\, skills\, and confidence to participate meaningfully in political decision-making. Their goals is to empower youth to become active agents of change and shape a better future for all. \nWhat to expect from the workshop?\nCollaborate with experts from RESU and Next Gen Advocates and explore innovative green policies and practical solutions. Gain a deeper understanding of environmental concepts\, discover actionable steps for creating more sustainable communities. Don’t miss this opportunity to learn\, engage\, ask questions\, and connect with like-minded individuals. \nLocation – Tirana and online \nThe workshop will be hybrid: participants based in Tirana will join in person at the RESU offices (Rruga Naim Frasheri Pallati 24\, Tirana 1023)\, and the event is also open to online participants. The Zoom link will be provided to the registered participants only. \nThe workshop participants will receive an official certificate of participation from the YRN\, upon request in the registration form. \n \nFor any questions and for the Zoom link\, please reach out to the Chair of the YRN Committee for Green & Sustainable Europe\, Marsel Haka\, at yrn.tc-green-sustainable@aer.eu.
URL:https://aer.eu/events/register-yrn-workshop-sustainable-pathways-youth-led-foresight-for-territorial-development/
CATEGORIES:YRN Events
ATTACH;FMTTYPE=image/jpeg:https://aer.eu/wp-content/uploads/2024/10/YRN-workshop-Green-Sustainable-jpeg.webp
END:VEVENT
END:VCALENDAR