BEGIN:VCALENDAR
VERSION:2.0
PRODID:-//Assembly of European Regions - ECPv6.1.3//NONSGML v1.0//EN
CALSCALE:GREGORIAN
METHOD:PUBLISH
X-WR-CALNAME:Assembly of European Regions
X-ORIGINAL-URL:https://aer.eu
X-WR-CALDESC:Events for Assembly of European Regions
REFRESH-INTERVAL;VALUE=DURATION:PT1H
X-Robots-Tag:noindex
X-PUBLISHED-TTL:PT1H
BEGIN:VTIMEZONE
TZID:Europe/Belgrade
BEGIN:DAYLIGHT
TZOFFSETFROM:+0100
TZOFFSETTO:+0200
TZNAME:CEST
DTSTART:20230326T010000
END:DAYLIGHT
BEGIN:STANDARD
TZOFFSETFROM:+0200
TZOFFSETTO:+0100
TZNAME:CET
DTSTART:20231029T010000
END:STANDARD
TZID:Europe/Brussels
BEGIN:DAYLIGHT
TZOFFSETFROM:+0100
TZOFFSETTO:+0200
TZNAME:CEST
DTSTART:20230326T010000
END:DAYLIGHT
BEGIN:STANDARD
TZOFFSETFROM:+0200
TZOFFSETTO:+0100
TZNAME:CET
DTSTART:20231029T010000
END:STANDARD
END:VTIMEZONE
BEGIN:VEVENT
DTSTART;VALUE=DATE:20231122
DTEND;VALUE=DATE:20231209
DTSTAMP:20260425T133631
CREATED:20231114T094949Z
LAST-MODIFIED:20231114T100335Z
UID:46552-1700611200-1702079999@aer.eu
SUMMARY:REGISTER NOW: Regional Business Forum 2023
DESCRIPTION:It is our pleasure to invite you to the sixth edition of the Regional Business Forum (RBF)\, taking place as a hybrid event. You are most welcome to join us online and in Novi Sad\, Serbia from 22 November until 8 December.  \nThe Regional Business Forum is an annual international forum to exchange ideas on support for SMEs\, promote business and commerce\, incentive the possibility to collaborate and share best practices between regions. \nThis worldwide event provides additional support to companies to find international partners. The participants will be offered a chance to have B2B meetings with companies and institutions participating in the Forum\, according to their own needs and based on the information on registered participants. \nThe emphasis at this year’s forum will be on the applications of artificial intelligence in the following areas: \n\nInformation and communication technologies and the creative industry\nMetal processing industry\nAgriculture and food industry\n\n \nYou can access the platform for organisation of online “one-on-one” meetings by clicking the following link: https://rbf2023.b2match.io/ which provides the opportunity to promote business cooperation between regions. \nThe invitation is addressed\, in particular\, to regional chambers of commerce\, regional development agencies and institutions supporting SMEs development. \nWe therefore invite you to register as soon as possible. The official invitation for AER members from our President is HERE. \nFor further information\, please consult the RBF website. Should you have any questions\, please email rbf@vojvodina.gov.rs or call +381 21 487 4431
URL:https://aer.eu/events/register-now-regional-business-forum-2023/
CATEGORIES:AER Member Events
ATTACH;FMTTYPE=image/jpeg:https://aer.eu/wp-content/uploads/2023/11/Regional-Business-forum-2023-visuals-jpg.webp
END:VEVENT
BEGIN:VEVENT
DTSTART;VALUE=DATE:20231129
DTEND;VALUE=DATE:20231201
DTSTAMP:20260425T133631
CREATED:20230922T144529Z
LAST-MODIFIED:20231123T110224Z
UID:45877-1701216000-1701388799@aer.eu
SUMMARY:[Registrations closed] Winter Dialogues in Sankt Pölten\, Lower Austria
DESCRIPTION:The AER Winter Dialogues will be the concluding statutory event of 2023. Hosted in the Lower Austrian capital of Sankt Pölten on 29 and 30 November 2023\, the Winter Dialogues will be an opportunity to wrap up a year of activities and look to next steps in 2024\, with particular attention to the upcoming EU elections next June. \nA member-driven network\, the AER is eager to make sure that the Winter Dialogues offer a full overview of its services to member regions. This is why the two-day event will include meetings of the Working Groups on Bioeconomy and Mental Health\, a discussion on the AER Multi-Annual Strategy\, and the Autumn Bureau meeting hosting the third MEET Intergenerational Debate on the Future of Europe. This debate will explore the role of active citizenship and youth participation in shaping a more democratic\, inclusive and sustainable future for our continent\, with a focus on the opportunities coming from the New Green Deal. \nThe MEET project (Mobile Europe = Engage Together) is funded by the Citizens\, Equality\, Rights and Values Programme (CERV) and led by the European Youth Forum (YFJ)\, in partnership with the AER. Ahead of the 2024 European elections\, the MEET project aims at offering space for diverse groups of European citizens to discuss Europe at local and regional level. The MEET Regional Debates aim at creating space to make youth voices heard and to foster intergenerational debate between young people and politicians. \nA meeting of the Ukraine Focus Group hosted by Vice President Lukas Mandl MEP will take place on Friday\, 1 December at the premises of the European Parliament Liaison Office in Vienna. The draft agenda can be viewed HERE.  \nParticipants in the Winter Dialogues staying in Sankt Pölten will enjoy a preferential rate. The booking must be done by 31.10.2023. Find here all the relevant information.\n\nDraft schedule\nPUBLIC Winter Dialogues 2023. docx (4)-1\n  \nDetailed programme & info kit\nInfo Kit Winter Dialogues-2211\n\nPlease register before 15 November 2023!\n\n30 November 14.15-16.30\nAutumn Bureau Meeting\nThe AER Autumn Bureau Meeting will take place in Sankt Pölten\, Lower Austria on 30 November. \nThe Bureau will define positions on key AER action areas that will guide our advocacy work for 2024-2025 and will be joined by institutional and youth representatives to discuss the future of Europe\, and how regions can contribute to forging a more democratic\, inclusive and sustainable future. \nDirect links:\nDraft Agenda\nWorking Documents \nBackground Note – The Future of Europe: An Intergenerational Debate\n \n30 November 17.15-18.45\nBureau Discussion: “The future of Europe: An Intergenerational Debate”\nIn the run-up to the 2024 European Parliament elections\, this debate will present a great opportunity to discuss the key challenges confronting Europe today and how regions can contribute to forging a more democratic\, inclusive and sustainable future. \nDuring the event\, representatives of regional governments and young people will come together and engage in meaningful conversations about the future of Europe\, focusing dialogue on how Europe can adopt a more sustainable path and improve people’s well-being in urban and rural regions in line with the Green Deal ambitions. \nWhat are the key challenges and opportunities facing Europe? What are the priorities and aspirations of young people for the future of Europe? What steps can be taken to enhance the democratic participation of citizens within the European Union? How can we effectively involve young people in EU policy-making and implementation? How can we create a greener and fairer Europe while improving prosperity and quality of life? How can we maximise the opportunities of the green transition for European cities and regions in urban and rural areas? \nThese are some of the questions to be explored during the debate\, organised in the framework of the MEET: Mobilise Europe = Engage Together project\, led by the European Youth Forum in cooperation with AER and funded by the European Union. \nSpeakers: \nMartin Selmayr\, Head of Representation of the European Commission in Austria\nJohannes Sundelin\, AER Vice President for Sustainability\, Green Transition and Health\, Norrbotten Region\nJim Jenssen\, President of the Youth Regional Network\nRares Voicu\, Board Member of the European Youth Forum\nMariana Borges\, Regional Directorate for Youth\, Region of Azores\nMichael Stellwag\, Young Local Councillor for Europe\, Lower Austria \nFurther information on the debate can be found HERE. \nFor more information on how you can be involved as a young European citizen\, please see the Open Call for Young Participants HERE.
URL:https://aer.eu/events/winter-dialogues-lower-austria/
ATTACH;FMTTYPE=image/jpeg:https://aer.eu/wp-content/uploads/2023/09/WD-place-date-banner-deadline-scaled.webp
END:VEVENT
END:VCALENDAR