BEGIN:VCALENDAR
VERSION:2.0
PRODID:-//Assembly of European Regions - ECPv6.1.3//NONSGML v1.0//EN
CALSCALE:GREGORIAN
METHOD:PUBLISH
X-WR-CALNAME:Assembly of European Regions
X-ORIGINAL-URL:https://aer.eu
X-WR-CALDESC:Events for Assembly of European Regions
REFRESH-INTERVAL;VALUE=DURATION:PT1H
X-Robots-Tag:noindex
X-PUBLISHED-TTL:PT1H
BEGIN:VTIMEZONE
TZID:Europe/Brussels
BEGIN:DAYLIGHT
TZOFFSETFROM:+0100
TZOFFSETTO:+0200
TZNAME:CEST
DTSTART:20230326T010000
END:DAYLIGHT
BEGIN:STANDARD
TZOFFSETFROM:+0200
TZOFFSETTO:+0100
TZNAME:CET
DTSTART:20231029T010000
END:STANDARD
END:VTIMEZONE
BEGIN:VEVENT
DTSTART;VALUE=DATE:20231110
DTEND;VALUE=DATE:20231111
DTSTAMP:20260425T121823
CREATED:20231018T144000Z
LAST-MODIFIED:20231018T144654Z
UID:46295-1699574400-1699660799@aer.eu
SUMMARY:Debating Europe: Regional MEET Debate in Krapina-Zagorska\, Croatia
DESCRIPTION:The second regional debate of our MEET project will take place in Krapina-Zagorska\, Croatia on November 10th\, 2023. The intergenerational debate will be held in Croatian and will bring together 100 participants. \nThe MEET project\nThe MEET project is focused on encouraging democratic engagement and civic participation\, where the focus is precisely on active European citizens. Just in the period before the upcoming European elections\, the MEET project will provide a space for different groups of European citizens to connect Europe with the regional level through a series of different activities encouraging continuous activism and interaction with European politicians. Depolarization and a less tense democratic space will ensure higher levels of participation and better respect and understanding of other positions\, ultimately helping to revitalize democracy as a system. \nThe MEET project aims to: \n\nProvide young people with the tools and training they need to become more active in their democratic participation.\nCreate spaces where citizens from different backgrounds can connect with and learn from each other\, acquire civic skills and learn more about the European Union and its role in their everyday lives.\nCreate opportunities for (young) people to enter in a dialogue with politicians ahead of the European elections.\n\nOur second regional MEET debate will be organised in Krapina-Zagorska\, Croatia and it will focus on European topics in general\, and digitalisation in rural areas in particular. The debate will be held on November 10\, 2023 in the Hotel Kaj in Marija Bistrica. \nThe project is funded by the Citizens\, Equality\, Rights and Values ​​(CERV) 2021-2027 programme of the Eurepean Union. The project is coordinated by European Youth Forum and AER is implementing various activities in different regions. The project partner of this third MEET debate is the Zagorje Development Agency.
URL:https://aer.eu/events/debating-europe-regional-meet-debate-in-krapina-zagorska-croatia/
LOCATION:Marija Bistrica\, Krapina-Zagorska\, Croatia (Local Name: Hrvatska)
ATTACH;FMTTYPE=image/jpeg:https://aer.eu/wp-content/uploads/2023/10/inclusioncafe.jpg
END:VEVENT
END:VCALENDAR