BEGIN:VCALENDAR
VERSION:2.0
PRODID:-//Assembly of European Regions - ECPv6.1.3//NONSGML v1.0//EN
CALSCALE:GREGORIAN
METHOD:PUBLISH
X-WR-CALNAME:Assembly of European Regions
X-ORIGINAL-URL:https://aer.eu
X-WR-CALDESC:Events for Assembly of European Regions
REFRESH-INTERVAL;VALUE=DURATION:PT1H
X-Robots-Tag:noindex
X-PUBLISHED-TTL:PT1H
BEGIN:VTIMEZONE
TZID:Europe/Brussels
BEGIN:DAYLIGHT
TZOFFSETFROM:+0100
TZOFFSETTO:+0200
TZNAME:CEST
DTSTART:20230326T010000
END:DAYLIGHT
BEGIN:STANDARD
TZOFFSETFROM:+0200
TZOFFSETTO:+0100
TZNAME:CET
DTSTART:20231029T010000
END:STANDARD
END:VTIMEZONE
BEGIN:VEVENT
DTSTART;TZID=Europe/Brussels:20231016T100000
DTEND;TZID=Europe/Brussels:20231016T113000
DTSTAMP:20260425T145155
CREATED:20231002T115655Z
LAST-MODIFIED:20231005T101719Z
UID:46043-1697450400-1697455800@aer.eu
SUMMARY:[Registrations Open] First Inclusion Café: housing
DESCRIPTION:In order to facilitate peer-learning around integration policies and practices\, the AER is organising its first online Inclusion Café. \nAn informal space to explore practices\nThe Inclusion Café is an informal space for exchanges between peers across Europe\, where one practice is presented each time and then discussed to explore elements of transferability. \nMembers of the Intercultural Regions Network and all regional and local representatives interested in learning from this practice are welcome to register! \n \n1st Inclusion Café: meeting temporary housing needs via co-design & multistakeholder collaboration\nDuring this first Inclusion Café\, we will welcome Giulia Boldrini\, to hear about ANCI Toscana’s work to support the Region in the development of a coherent and efficient reception model for third-country nationals. In particular\, ANCI Toscana developed a model to meet the temporary housing needs of migrants who are not entitled to reception services and are therefore in a vulnerable situation. \nFor this\, ANCI Toscana explored cooperative housing and the development of a model of public-private collaboration based on a network\, oriented towards housing inclusion. This guaranteed the sustainability of the action. Migrant were directly involved in the co-design of the activities. \nThe practice is further detailed on the Includ-EU website \nStart the week by having coffee with peers!\nThis online Inclusion Café is a space to exchange with peers and learn about the actual implementation of a practice. It will take place several times a year\, and aims to become a trusted space for mutual learning and exchanges. \n 
URL:https://aer.eu/events/registrations-open-first-inclusion-cafe-housing/
ATTACH;FMTTYPE=image/jpeg:https://aer.eu/wp-content/uploads/2023/09/inclusioncafe-4-jpg.webp
END:VEVENT
END:VCALENDAR