BEGIN:VCALENDAR
VERSION:2.0
PRODID:-//Assembly of European Regions - ECPv6.1.3//NONSGML v1.0//EN
CALSCALE:GREGORIAN
METHOD:PUBLISH
X-ORIGINAL-URL:https://aer.eu
X-WR-CALDESC:Events for Assembly of European Regions
REFRESH-INTERVAL;VALUE=DURATION:PT1H
X-Robots-Tag:noindex
X-PUBLISHED-TTL:PT1H
BEGIN:VTIMEZONE
TZID:Europe/Brussels
BEGIN:DAYLIGHT
TZOFFSETFROM:+0100
TZOFFSETTO:+0200
TZNAME:CEST
DTSTART:20230326T010000
END:DAYLIGHT
BEGIN:STANDARD
TZOFFSETFROM:+0200
TZOFFSETTO:+0100
TZNAME:CET
DTSTART:20231029T010000
END:STANDARD
END:VTIMEZONE
BEGIN:VEVENT
DTSTART;TZID=Europe/Brussels:20230922T160000
DTEND;TZID=Europe/Brussels:20230924T140000
DTSTAMP:20260425T162757
CREATED:20230726T123734Z
LAST-MODIFIED:20231017T135737Z
UID:45563-1695398400-1695564000@aer.eu
SUMMARY:[Sold out] Youth Regional Network - Capacity-building weekend in Koppang\, Innlandet
DESCRIPTION:Save the Date! The AER Youth Regional Network (YRN) will gather in Koppang (Innlandet County\, Norway) for a capacity-building weekend with their members\, from the 22nd to the 24th of September 2023! \nThe event is open to all members of the YRN\, and to AER members working on youth issues\, such as the Youth Coordinators in the regions / councils / provinces. \nThe event is coordinated by the YRN Presidium (President\, Vice-President and Chairs of the Thematic Committees)\, and they have developed a very nice programme and arrangements for their members! \n \nProgramme\nCHECK OUT THE PROGRAMME HERE\nPractical Information\n# Arrival day: Friday 22 September \nThis day will be dedicated to arrivals throughout the day and to getting to know each other in the end afternoon / evning. \nIf you travel by plane\, the arrival airport will be Oslo. From there\, you should take the train to Koppang (train RE10 / R60). \nYou can check the route and timetables on the Norwegian railway website here. \n/!\ Koppang is in a rural area\, so trains can be infrequent: make sure to plan your travel accordingly and to check the Norwegian railway website beforehand! In addition\, because of the floods in Norway in August\, some trains originally scheduled when we planned this event had to be cancelled\, and some were substituted by replacement buses: \n\nFor Friday 22 September (arrival day)\, make sure to check the Norwegian railway website to see what your travel options are from Oslo airport to Koppang. At the moment\, there are trains departing from Oslo airport at 10:52 (RE10 to Hamar\, then change for R60 to Koppang) and at 15:07 (direct R60 train from Oslo to Koppang). After that\, the only options are RE10 train to Hamar\, and change for a replacement bus from Hamar to Koppang. Make sure you will have enough time to change in Hamar. In the worst case scenario\, the YRN Presidium has rented a car to pick up participants who may be stranded in Hamar (in case they miss the replacement bus for lack of time)\, but this should be a last-resort option.\nFor Sunday 24 September (departure day)\, the very first train leaves from Koppang at 14.16 and arrives at Oslo airport at 16.32. You may want to plan an additional night in Oslo on Sunday 24 September after the event in Koppang\, and depart the day after\, depending on your flight options.\n\n# Activities: Saturday 23 September (full day) and Sunday 24 September (morning) \n# Departure day: Sunday 24 September. \nActivities will be planned only in the morning to give time for participants to travel in the afternoon / evening. \nAccommodation & Meals\nAll meals are covered from Friday dinner to Sunday lunch. \nThe participants will be accommodated at Stor-Elvdal Hotell (address: Kjemsjøveien 1\, 2480 Koppang\, Norway)\, contact@storelvdalhotell.no. \nThe participants are expected to book and cover their accommodation themselves (selected participants will receive the hotel’s contact email). The prices are the following (and include breakfast): \nOption 1: shared apartment with two bedrooms and a shared large bathroom. If there are 4 people in one apartment: the price is 575 NOK (around 52€) per night and per person. If there are 2 people in one partment (one in each bedroom): 1000 NOK (around 90€) per night and per person. \nOption 2: hotel rooms. 1095 NOK (around 98€) per night and per person for a single room\, 650 NOK (around 59€) for a double room\, 600 NOK (around 54€) for a triple room. \nSolidarity Fund\nYoung participants whose travel costs cannot be supported by their region\, a regional council\, a youth regional council\, a youth organisation\, etc.\, may apply to the YRN Solidarity Fund. If accepted\, the AER/YRN and our host regions in Norway can cover up to 400€ of your travel and accommodation costs\, as a reimbursement by bank transfer after your attendance to the entire event\, and if you provide all necessary supportive documents (invoices\, receipts\, original boarding passes\, train tickets\, bus tickets). The reimbursement may exceed 400€ depending on the final number of participants. Please wait for a confirmation by the AER Secretariat and the YRN Presidium before making any travel arrangements. \nHow to attend the event?\nPlease fill in the application form by clicking on the button below. Please do not make any travel arrangements until your participation is confirmed by the YRN Presidium. \nWho to contact?\nPlease contact the YRN Presidium at presidium.yrn@aer.eu for any question you may have.
URL:https://aer.eu/events/yrn-capacity-building-weekend-in-koppang-innlandet-22-24-september-2023/
CATEGORIES:YRN Events
ATTACH;FMTTYPE=image/jpeg:https://aer.eu/wp-content/uploads/2023/03/Group_Picture_YRN_GA.jpg
END:VEVENT
END:VCALENDAR