BEGIN:VCALENDAR
VERSION:2.0
PRODID:-//Assembly of European Regions - ECPv6.1.3//NONSGML v1.0//EN
CALSCALE:GREGORIAN
METHOD:PUBLISH
X-ORIGINAL-URL:https://aer.eu
X-WR-CALDESC:Events for Assembly of European Regions
REFRESH-INTERVAL;VALUE=DURATION:PT1H
X-Robots-Tag:noindex
X-PUBLISHED-TTL:PT1H
BEGIN:VTIMEZONE
TZID:Europe/Brussels
BEGIN:DAYLIGHT
TZOFFSETFROM:+0100
TZOFFSETTO:+0200
TZNAME:CEST
DTSTART:20230326T010000
END:DAYLIGHT
BEGIN:STANDARD
TZOFFSETFROM:+0200
TZOFFSETTO:+0100
TZNAME:CET
DTSTART:20231029T010000
END:STANDARD
END:VTIMEZONE
BEGIN:VEVENT
DTSTART;TZID=Europe/Brussels:20230621T143000
DTEND;TZID=Europe/Brussels:20230624T140000
DTSTAMP:20260425T214645
CREATED:20230302T091539Z
LAST-MODIFIED:20240911T085250Z
UID:43511-1687357800-1687615200@aer.eu
SUMMARY:AER Delegation to the Europa Forum Wachau (21-24 June 2023) - Call for participants (closed)
DESCRIPTION:APPLY HERE \nThe Assembly of European Regions (AER) is a partner of the Europa Forum Wachau\, which will take place from the 21st to the 24th of June 2023\, in Göttweig Abbey (Stift Göttweig)\, Lower Austria. \nThe Europa Forum Wachau was established in 1995\, following Austria’s accession to the European Union. It is a yearly high-level discussion forum\, addressing current European challenges in various Salons and Plenary Sessions. The Forum values the input and participation from young European citizens in the different sessions\, and includes a Youth Event. The Europa Forum Wachau is a unique opportunity to foster exchanges and intergenerational dialogue between European citizens\, and to reinforce the sense of European belonging. The event gathers elected representatives (heads of government\, ministers\, EU Commissioners…)\, but also business\, cultural and media representatives\, as well as (young) European citizens and representatives from the civil society. \nAs partners of the event\, the AER is assembling a delegation of 6 young participants\, to take part in all activities of the Forum (including its Youth Event)\, and represent the AER and its Youth Regional Network (YRN). One of the young participants should be an elected political representative at local or regional level. \nEligibility of the participants\n\nParticipants must travel from France. They don’t need to be French citizens or residents\, but they must travel from France;\nAged between 18 and 30 years old;\nPriority will be given to applicants based in one of the AER member regions in France (Grand Est and Corsica);\nPriority will be given to applicants belonging to a youth council or a youth organisation in Grand Est or Corsica\, and willing to join the AER’s Youth Regional Network. \nWe will also consider applications from other regions\, but priority is given to our members.\n\nPractical information & Travel Reimbursement rules\n\nArrival day & Welcome event: 21st of June. Transfer by bus from the Vienna Central Station to Stift Göttweig will be organised and covered by the organisers (departure at 14.30 from the station).\nEnd of the event & Departure day: 24th of June. Transfer by bus from Stift Göttweig to the Vienna Central Station and then to Vienna International Airport will be organised and covered by the organisers (departure at 14.30 from Stift Göttweig\, estimated arrival at the airport 16.30).\nAccommodation and meals are covered by the organisers;\nThe accommodation will be at the Jugendquartier Stift Göttweig;\nTravel reimbursement up to 275€ per participant after the event\, upon presentation of all supportive documents (original boarding passes / train tickets / bus tickets and invoices / receipts). Detailed information will be sent by the AER Group Leader to all selected participants.\nParticipants can arrive a day before (20th of June) in Vienna if they wish to visit the city and/or if more convenient with their transport options\, but they will have to cover their meals and accommodation themselves for this day / night.\n\nDeadline to apply\nPlease send your application by filling in this Application Form\, no later than 20/04/2023. \nApplications will be reviewed on a rolling basis. \nGroup leader & Contact person\nPlease contact Lorène Weber (l.weber@aer.eu)\, Programmes Coordinator at the AER Secretariat\, for any question you may have. \nAPPLY HERE \n  \nPROGRAMME HERE \n 
URL:https://aer.eu/events/aer-delegation-europa-forum-wachau/
CATEGORIES:Partner Events
ATTACH;FMTTYPE=image/jpeg:https://aer.eu/wp-content/uploads/2023/03/EFW_2023_Deadline_Extended.jpg
END:VEVENT
END:VCALENDAR