BEGIN:VCALENDAR
VERSION:2.0
PRODID:-//Assembly of European Regions - ECPv6.1.3//NONSGML v1.0//EN
CALSCALE:GREGORIAN
METHOD:PUBLISH
X-WR-CALNAME:Assembly of European Regions
X-ORIGINAL-URL:https://aer.eu
X-WR-CALDESC:Events for Assembly of European Regions
REFRESH-INTERVAL;VALUE=DURATION:PT1H
X-Robots-Tag:noindex
X-PUBLISHED-TTL:PT1H
BEGIN:VTIMEZONE
TZID:Europe/Brussels
BEGIN:DAYLIGHT
TZOFFSETFROM:+0100
TZOFFSETTO:+0200
TZNAME:CEST
DTSTART:20230326T010000
END:DAYLIGHT
BEGIN:STANDARD
TZOFFSETFROM:+0200
TZOFFSETTO:+0100
TZNAME:CET
DTSTART:20231029T010000
END:STANDARD
END:VTIMEZONE
BEGIN:VEVENT
DTSTART;TZID=Europe/Brussels:20230603T140000
DTEND;TZID=Europe/Brussels:20230604T163000
DTSTAMP:20260425T231034
CREATED:20230525T074714Z
LAST-MODIFIED:20230525T095013Z
UID:44391-1685800800-1685896200@aer.eu
SUMMARY:Open meeting of AER's Youth Regional Network (YRN)
DESCRIPTION:AER’s Youth Regional Network is back! Since the YRN General Assembly last March\, the YRN Presidium has been working hard on setting up a working plan and thematic committees\, and on contributing to AER’s work\, to foster youth participation and make youth voices heard in policy-making. \nNow\, they want to involve YOU! Whether you are already a member of the YRN\, or a young person interested in joining and contributing\, the YRN Presidium is inviting you to an open meeting\, online\, on the 3rd and 4th of June.   If you want to join this meeting\, please email the YRN Presidium at presidium.yrn@aer.eu. \nIf not done already\, also fill in the YRN Expression of Interest form: if you are eligible\, you will be able to join the YRN as a member and will receive all communications related to the YRN activities\, including the link to join the online meeting.   \n\nCheck out the programme of the online meeting of 3-4 June below: Agenda_YRN_Presidium_Meeting (3-4 June)   \n  \nWhat is the YRN?\nCreated by the Assembly of European Regions in 2008\, the Youth Regional Network (YRN) is a cross-regional youth platform\, promoting active youth participation at regional level. Composed of regional-level youth councils\, parliaments and organisations in AER’s network and membership\, it provides young people with an opportunity to express policy recommendations\, to foster debate and capacity-building\, to exchange good practices\, to reach out to decision-makers and to influence policies. The YRN is a unique forum for young people from diverse regions to raise their voice collectively\, while introducing a European dimension to youth policy in those regions.   \n  \nWho is the YRN Presidium?\n\nPresident: Jim Simonsen Jenssen (Nordland\, NO)\n1st Vice-President: Anette Amalie Bang (Nordland\, NO)\n2nd Vice-President: Norbert Nagy (Salaj\, RO)\nChair of the TC on Youth Participation & Governance: Sigrun Myrvang (Innlandet\, NO)\nChair of the TC on Mental Health & Wellbeing: Daria Sustrietova (Kirovohrad\, UA)\nChair of the TC on Gender Equality & Women Empowerment: Maylinda Bajrami (Tirana\, AL)\n\nYou can contact them at presidium.yrn@aer.eu!
URL:https://aer.eu/events/open-meeting-of-aers-youth-regional-network-yrn/
ATTACH;FMTTYPE=image/jpeg:https://aer.eu/wp-content/uploads/2023/03/Group_Picture_YRN_GA.jpg
END:VEVENT
END:VCALENDAR