BEGIN:VCALENDAR
VERSION:2.0
PRODID:-//Assembly of European Regions - ECPv6.1.3//NONSGML v1.0//EN
CALSCALE:GREGORIAN
METHOD:PUBLISH
X-ORIGINAL-URL:https://aer.eu
X-WR-CALDESC:Events for Assembly of European Regions
REFRESH-INTERVAL;VALUE=DURATION:PT1H
X-Robots-Tag:noindex
X-PUBLISHED-TTL:PT1H
BEGIN:VTIMEZONE
TZID:Europe/Paris
BEGIN:DAYLIGHT
TZOFFSETFROM:+0100
TZOFFSETTO:+0200
TZNAME:CEST
DTSTART:20170326T010000
END:DAYLIGHT
BEGIN:STANDARD
TZOFFSETFROM:+0200
TZOFFSETTO:+0100
TZNAME:CET
DTSTART:20171029T010000
END:STANDARD
END:VTIMEZONE
BEGIN:VEVENT
DTSTART;TZID=Europe/Paris:20170912T140000
DTEND;TZID=Europe/Paris:20170914T180000
DTSTAMP:20260425T053358
CREATED:20170606T114714Z
LAST-MODIFIED:20180605T064953Z
UID:16485-1505224800-1505412000@aer.eu
SUMMARY:AER Committees' Autumn Plenary
DESCRIPTION:#AERCP2017\nThe Autumn 2017 committees’ plenary took place in Nancy\, France\, from the 12th to the 14th of September. \n  \nPresentations\n12 September\n\nMeeting of the seconded officers (presentation)\n\n13 September\n\nJoin the Policy Learning Platform (presentation)\nDebate: is there a future for culture in the digital age? (Presentation by Iconem)\nCohesion Policy: are you getting anything out of it?\nCommittee on Regional Development & Economy Plenary Meeting (presentation)\nCommittee on Social Policy & Public Health Plenary Meeting (presentation)\nCommittee on Culture\, Education and Youth Plenary Meeting (presentation)\n\n14 September\n\nE-health network: the value of data (presentation)\, example of ARTEM Big Data for health (presentation)\nTransports & mobility: smart green & integrated (presentation)\, presentation on C-ITS (presentation)\, regional example of carpooling (presentation)\, state aid for regional airports (presentation)\nYouth mental health: experience from Norrbotten for a holistic approach to health (presentation) join our project (presentation)\nEnergy\, waste & regional economy: life-cycle approaches (presentation)\n\n \nDetailed Programme\nParticipants list \nDirect Links\n\nPlenaries Working Documents\nInvitation Letter\nHotel Recommendations\nPractical Information\n\nRelated articles\n\nWorkshop on smart green and integrated transport systems\nThe AER working group on Transports and Mobility held a workshop on smart green and integrated transport systems on 14 ...Read More\n\nOutcome of Executive board meeting (Nancy 12/09/17)\nAs the next Executive Board (EB) meeting is around the corner\, here is a short recap of the main outcome ...Read More\n\nNancy workshops: targeted experience exchange\nThe value of data\, smart green and integrated transport systems\, regions and culture\,  youth mental health and life-cycle approaches: the ...Read More\n\nThe AER Committee Plenaries –  Thank you for an eventful week!\nThe AER Autumn committee plenary week was very busy indeed. Hosted by the city of Nancy and the region of ...Read More\n\nAER Committee Plenaries – 12/14 September – Relive the week here!\n#AERCP2017 From 12 to 14 September\, AER was in Nancy\, France for their Autumn Committee Plenaries. The programme focused on the following ...Read More\n\nCommittee 1 debates artificial intelligence\nOn the occasion of AER 2017 Autumn Plenaries\, Committee 1 will host a debate on Artificial Intelligence. Proposed by Jean-Luc ...Read More\n\nCall for proposal on Cohesion Policy: the perfect call for AER region members!\nThere are no topics that fit AER's mission more than cohesion policy. During its Bureau meeting in Lower Austria\, AER ...Read More\n\nFriendlier Healthcare for all regions? We’re working on it!\nHave you ever found yourself stuck for hours in your doctor's waiting room\, waiting for a consultation that turns out ...Read More			\n			\nContact\nFreddie Martyn\nCommunications and Events Coordinator\nf.martyn@aer.eu \n 
URL:https://aer.eu/events/aer-committees-autumn-plenary/
LOCATION:Nancy\, France\, Nancy\, France
ATTACH;FMTTYPE=image/png:https://aer.eu/wp-content/uploads/2017/06/Event-Cover-Picture.png
END:VEVENT
END:VCALENDAR