BEGIN:VCALENDAR
VERSION:2.0
PRODID:-//Assembly of European Regions - ECPv6.1.3//NONSGML v1.0//EN
CALSCALE:GREGORIAN
METHOD:PUBLISH
X-WR-CALNAME:Assembly of European Regions
X-ORIGINAL-URL:https://aer.eu
X-WR-CALDESC:Events for Assembly of European Regions
REFRESH-INTERVAL;VALUE=DURATION:PT1H
X-Robots-Tag:noindex
X-PUBLISHED-TTL:PT1H
BEGIN:VTIMEZONE
TZID:Europe/Paris
BEGIN:DAYLIGHT
TZOFFSETFROM:+0100
TZOFFSETTO:+0200
TZNAME:CEST
DTSTART:20160327T010000
END:DAYLIGHT
BEGIN:STANDARD
TZOFFSETFROM:+0200
TZOFFSETTO:+0100
TZNAME:CET
DTSTART:20161030T010000
END:STANDARD
END:VTIMEZONE
BEGIN:VEVENT
DTSTART;VALUE=DATE:20160816
DTEND;VALUE=DATE:20160821
DTSTAMP:20260424T052633
CREATED:20160127T142433Z
LAST-MODIFIED:20170706T182658Z
UID:7962-1471305600-1471737599@aer.eu
SUMMARY:Summer Academy
DESCRIPTION:The President of the AER Summer Academy Organising Committee\, Mr Rune Fredriksen (Østfold-NO) and its members hosted the 2016 Summer Academy from 16-20 August 2016 in Østfold. \nProgramme\n\n Documents and information from the event\n\n\n\nPractical information\n\n\n\n\nMichael Lund Thomsen presentation on “Entrepreneurship”\n\n\n\n\nTone Helstad Glomsrud presentation on “Social Entrepreneurship”\n\n\n\n\nAnna Holm presentation on “Comfort Zone”\n\n\n\n\nPresentation Fru Blom Design\n\n\n\n\nPresentation Flevoland: Youth Co-makership and Entrepreneurship\n\n\n\n\nGeneral Programme of Events\n\n\n\n\n\nFollow us!\nJoin the AER Summer Academy group on facebook to get the latest news \nFollow the event on Snapchat: AERSA2016 \nFollow us on Twitter #AERSA2016 \nPictures of the event are available here \n\nAbout Østfold\nØstfold is situated in the South-Eastern part of Norway\, on the border to Sweden. \nEven though Østfold is the second smallest county in Norway\, we like to call our region “compact and complete”. Everything is reached within an hour or so by car. Østfold is a region with a diverse nature – rivers\, quiet lakes and forests in the inland\, and a beautiful coastline that attracts a great number of tourists every summer. Østfold is the gateway to Norway – and is actually your first meeting with the Norwegian fjords\, as you cross the border from Sweden over Svinesund. \nWe like to call Østfold both “the gateway to Norway” and “The gateway to Europe”. \nThe region offers a unique coastline and a variety of historical and cultural attractions. \nIn Østfold\, and in Europe in general\, there has been a great focus on young people and unemployment. The topic of the Summer Academy will focus on Youth Entrepreneurship. Østfold recently received the AER most youth friendly region Europe (MYFER Award 2014). The wellbeing of youth people is a central part of Østfold’s political agenda as well as of the EU. The theme of youth entrepreneurship is also high on the agenda in AERs Youth Regional Network (AER YRN)\, where youth from Østfold are active participants. AER YRN has a separate committee on Professional Life and Entrepreneurship and youth entrepreneurship and social entrepreneurship were central themes in the latest plenary meetings of the network. \nØstfold County Council has close cooperation with\, among others\, Junior Achievement Young Enterprise’s branch in Østfold. They run an extensive amount of programmes to promote and teach entrepreneurship in school from primary school to university college level\, and are also working with many projects within the field of regional development in the county. \nØstfold City Council made a successful application to the ERASMUS+ Programme of the European Union. You can find out more about it in the Projects Section of our website. \n\nAbout the Summer Academy\n \nParticipants
URL:https://aer.eu/events/aer-summer-academy/
LOCATION:Sarpsborg\, Sarpsborg\, Østfold\, Norway
CATEGORIES:AER Summer Academies
ATTACH;FMTTYPE=image/jpeg:https://aer.eu/wp-content/uploads/2016/06/header1.jpg
END:VEVENT
END:VCALENDAR