BEGIN:VCALENDAR
VERSION:2.0
PRODID:-//Assembly of European Regions - ECPv6.1.3//NONSGML v1.0//EN
CALSCALE:GREGORIAN
METHOD:PUBLISH
X-ORIGINAL-URL:https://aer.eu
X-WR-CALDESC:Events for Assembly of European Regions
REFRESH-INTERVAL;VALUE=DURATION:PT1H
X-Robots-Tag:noindex
X-PUBLISHED-TTL:PT1H
BEGIN:VTIMEZONE
TZID:Europe/Paris
BEGIN:DAYLIGHT
TZOFFSETFROM:+0100
TZOFFSETTO:+0200
TZNAME:CEST
DTSTART:20140330T010000
END:DAYLIGHT
BEGIN:STANDARD
TZOFFSETFROM:+0200
TZOFFSETTO:+0100
TZNAME:CET
DTSTART:20141026T010000
END:STANDARD
END:VTIMEZONE
BEGIN:VEVENT
DTSTART;VALUE=DATE:20140526
DTEND;VALUE=DATE:20140529
DTSTAMP:20260423T183654
CREATED:20140426T135739Z
LAST-MODIFIED:20160428T143436Z
UID:10175-1401062400-1401321599@aer.eu
SUMMARY:29th AER General Assembly: statutory session
DESCRIPTION:The 2014 General Assembly of the Assembly of European Regions took place in Wroclaw\, Lower Silesia from 26-28 May. \nVery lively and fruitful discussions on the elections to the European Parliament and on the future of regions resulted in the Dolnoslaskie Political Statement\, which we invite you to disseminate within your region\, as well as at national and international level to promote the future role of regions. \nFeel free to publish the Dolnoslaskie Declaration on your website\, as well as the AER position on Entrepreneurship\, which builds on the work carried out accross Committees in recent years through different events and projects! \nRelated Events \n\nGeneral Assembly: thematic session\nSpring Bureau\n\n\n\nProgramme of the Event\n \nDolnoslaskie Political Statement\n \n\nAER position on Entrepreneurship\n \n\nEIGE General Presentation
URL:https://aer.eu/events/29th-aer-general-assembly-statutory-session/
LOCATION:Wroclaw\, Wroclaw\, Dolnoslaskie\, Poland
CATEGORIES:AER General Assemblies
ATTACH;FMTTYPE=image/jpeg:https://aer.eu/wp-content/uploads/2016/04/General-Assembly-statutory-session.jpg
END:VEVENT
BEGIN:VEVENT
DTSTART;VALUE=DATE:20140528
DTEND;VALUE=DATE:20140529
DTSTAMP:20260423T183654
CREATED:20140428T142258Z
LAST-MODIFIED:20160428T143251Z
UID:10180-1401235200-1401321599@aer.eu
SUMMARY:29th AER General Assembly: thematic session
DESCRIPTION:Are regions at the heart of a New Deal for Europe? \nOn Wednesday 28 May will take place the thematic General Assembly which will try to answer this question. This interactive debate\, co-organised with the Dolnoslaskie region\, will focus on the future of regions in Europe on two specific levels: a first round table will discuss the future institutional definition of regions and a second round table will explain  how regions can be the engine of economic growth. \nRound table n°1: Institutional New Deal with the regions? \nThis round table session will focus on the future of regions given the fact that territories\, their demographic outlook and also their governance structures are changing. Are we heading towards a new definition of regions and territories? Does subsidiarity still make sense? \n\nRound table n°2: Regions at the heart of economic growth \nThis round table session will bring together business and policy makers and focus on how regions can support local businesses and entrepreneurship\, while also taking into account what businesses expect from policy makers. Panelist will discuss to what extent “economic subsidiarity” can help in creating jobs. \nPlease\, find below the agenda of the session. \nWhat are your views on these questions? What are your experiences? We look forward to sharing on these topics in Wroclaw! \nAs you will see from the programme of events below\, there are a number of different meetings taking place; please note that attendance may be restricted for some of these. \n\n\nAgenda of the thematic General Assembly\n \n\nBiographies of speakers
URL:https://aer.eu/events/general-assembly-thematic-session/
LOCATION:Wroclaw\, Wroclaw\, Dolnoslaskie\, Poland
CATEGORIES:AER General Assemblies
ATTACH;FMTTYPE=image/jpeg:https://aer.eu/wp-content/uploads/2016/04/AER-GA-in-Wroclaw-Thematic-Session.jpg
END:VEVENT
END:VCALENDAR