BEGIN:VCALENDAR
VERSION:2.0
PRODID:-//Assembly of European Regions - ECPv6.1.3//NONSGML v1.0//EN
CALSCALE:GREGORIAN
METHOD:PUBLISH
X-WR-CALNAME:Assembly of European Regions
X-ORIGINAL-URL:https://aer.eu
X-WR-CALDESC:Events for Assembly of European Regions
REFRESH-INTERVAL;VALUE=DURATION:PT1H
X-Robots-Tag:noindex
X-PUBLISHED-TTL:PT1H
BEGIN:VTIMEZONE
TZID:Europe/Paris
BEGIN:DAYLIGHT
TZOFFSETFROM:+0100
TZOFFSETTO:+0200
TZNAME:CEST
DTSTART:20110327T010000
END:DAYLIGHT
BEGIN:STANDARD
TZOFFSETFROM:+0200
TZOFFSETTO:+0100
TZNAME:CET
DTSTART:20111030T010000
END:STANDARD
END:VTIMEZONE
BEGIN:VEVENT
DTSTART;VALUE=DATE:20110621
DTEND;VALUE=DATE:20110623
DTSTAMP:20260423T171656
CREATED:20110620T234820Z
LAST-MODIFIED:20170420T123450Z
UID:15198-1308614400-1308787199@aer.eu
SUMMARY:AER Training Academy on financial engineering
DESCRIPTION:The AER Training Academy on financial engineering took place on 21/22 of June in Brussels. Around 20 participants learned more about financial engineering and were able to exchange experience and network. \nOBJECTIVES: \nAt the end of the course participants will:\n• Know which tools are available and best suited for the region\n• Identify key steps to be taken in order to implement these tools\n• Prepare an outline of the next steps to take\n• Will be able to provide their respective regions with preliminary advice on these tools \nKEY QUESTIONS: \nThese questions will be addressed during the AER Training Academy on financial engineering:\n• What are the main advantages but also main challenges and pitfalls of using those instruments?\n• What are the steps required to implement these instruments?\n• How to chose the suitable instruments for a region? \nTARGET GROUP: \nOfficers and representatives from regions with no or very little financial engineering experience\nTechnicians and officers from regional and economic development units\, or European programme Units in the regions \nFORMAT: \nThe AER Training Academy on financial engineering will include:\n• Presentations by regional and financial institution experts\n• Case studies\n• Q/A sessions \n  \nPresentations\n\n\n\n Overview on Financial Engineering – Dorota KalinaZaliwska\, Head of Unit DG Regio\n\n\n JEREMIE\, Languedoc-Roussillon’s case study – Aubin Bonnet\, EIF\n\n\n JEREMIE Program in Catalonia – Teresa Torres\, Catalonia\n\n\n Wielkopolska Regional Operational Programme – Hubert Zobel\, Wielkopolska\n\n\n Marguerite Fund- Martin Sichelkow\, Marguerite Fund\n\n\n Implementation of the JESSICA initiative Wielkopolska- Radoslaw Krawczykowski\, Wielkopolska
URL:https://aer.eu/events/aer-ta-financial-engineering/
ATTACH;FMTTYPE=image/jpeg:https://aer.eu/wp-content/uploads/2011/06/DSC04334.jpg
END:VEVENT
END:VCALENDAR